BEGIN:VCALENDAR
VERSION:2.0
PRODID:-//Blue Quail Ridge Homeowners Association - ECPv6.15.20//NONSGML v1.0//EN
CALSCALE:GREGORIAN
METHOD:PUBLISH
X-WR-CALNAME:Blue Quail Ridge Homeowners Association
X-ORIGINAL-URL:https://www.bluequailridge.org
X-WR-CALDESC:Events for Blue Quail Ridge Homeowners Association
REFRESH-INTERVAL;VALUE=DURATION:PT1H
X-Robots-Tag:noindex
X-PUBLISHED-TTL:PT1H
BEGIN:VTIMEZONE
TZID:America/Chicago
BEGIN:DAYLIGHT
TZOFFSETFROM:-0600
TZOFFSETTO:-0500
TZNAME:CDT
DTSTART:20220313T080000
END:DAYLIGHT
BEGIN:STANDARD
TZOFFSETFROM:-0500
TZOFFSETTO:-0600
TZNAME:CST
DTSTART:20221106T070000
END:STANDARD
BEGIN:DAYLIGHT
TZOFFSETFROM:-0600
TZOFFSETTO:-0500
TZNAME:CDT
DTSTART:20230312T080000
END:DAYLIGHT
BEGIN:STANDARD
TZOFFSETFROM:-0500
TZOFFSETTO:-0600
TZNAME:CST
DTSTART:20231105T070000
END:STANDARD
BEGIN:DAYLIGHT
TZOFFSETFROM:-0600
TZOFFSETTO:-0500
TZNAME:CDT
DTSTART:20240310T080000
END:DAYLIGHT
BEGIN:STANDARD
TZOFFSETFROM:-0500
TZOFFSETTO:-0600
TZNAME:CST
DTSTART:20241103T070000
END:STANDARD
END:VTIMEZONE
BEGIN:VEVENT
DTSTART;VALUE=DATE:20230603
DTEND;VALUE=DATE:20230604
DTSTAMP:20260425T170831
CREATED:20230604T000913Z
LAST-MODIFIED:20230604T024616Z
UID:2049-1685750400-1685836799@www.bluequailridge.org
SUMMARY:Pizza Party Picnic!!
DESCRIPTION:Blue Quail Ridge celebrated the first weekend of the summer with its annual picnic entitled the 5 P Party!  We showcased our refreshed Pavilion\, Playground\, Park\, and Pool while enjoying Pizza! 🍕  \n\nThe park was sprinkled with signs to welcome attendees while the pool was shimmering clean inviting everyone to jump right in!  The kids could hardly wait to test out the sparkling water in our newly resurfaced pool\, which opened at Noon!\n\nMeanwhile\, the Board invited attendees to enjoy pizza while engaging in pleasant conversations with neighbors. \n\n \n\nThank you to our helping hands: Janet Bell\, Kay Compton\, and Ray Fassbender for making sure everyone received the pizza\, cookie and drink of their choice 😃… all delivered with a cheerful smile! \nWe look forward to more fun in the sun as the summer progresses!
URL:https://www.bluequailridge.org/event/pizza-party-picnic/
CATEGORIES:General
END:VEVENT
BEGIN:VEVENT
DTSTART;TZID=America/Chicago:20230603T130000
DTEND;TZID=America/Chicago:20230603T150000
DTSTAMP:20260425T170831
CREATED:20230216T170209Z
LAST-MODIFIED:20230216T170209Z
UID:1694-1685797200-1685804400@www.bluequailridge.org
SUMMARY:Annual Picnic at the Park
DESCRIPTION:Saturday\, June 3 from 1:00 to 3:00: ANNUAL PICNIC at the PARK
URL:https://www.bluequailridge.org/event/annual-picnic-at-the-park/
CATEGORIES:General
END:VEVENT
BEGIN:VEVENT
DTSTART;TZID=America/Chicago:20230605T170000
DTEND;TZID=America/Chicago:20230605T200000
DTSTAMP:20260425T170831
CREATED:20230519T124304Z
LAST-MODIFIED:20230519T124304Z
UID:1989-1685984400-1685995200@www.bluequailridge.org
SUMMARY:Pavilion Reservation
DESCRIPTION:
URL:https://www.bluequailridge.org/event/pavilion-reservation-14/
CATEGORIES:Pavilion Reserved
END:VEVENT
BEGIN:VEVENT
DTSTART;TZID=America/Chicago:20230609T200000
DTEND;TZID=America/Chicago:20230609T220000
DTSTAMP:20260425T170831
CREATED:20230425T040924Z
LAST-MODIFIED:20230425T040924Z
UID:1903-1686340800-1686348000@www.bluequailridge.org
SUMMARY:Pool Reservation
DESCRIPTION:
URL:https://www.bluequailridge.org/event/pool-reservation-9/
CATEGORIES:Pool Reserved
END:VEVENT
BEGIN:VEVENT
DTSTART;VALUE=DATE:20230610
DTEND;VALUE=DATE:20230612
DTSTAMP:20260425T170831
CREATED:20230216T170806Z
LAST-MODIFIED:20230216T170859Z
UID:1696-1686355200-1686527999@www.bluequailridge.org
SUMMARY:Community Garage Sale
DESCRIPTION:Saturday\, June 10 & 11th:  COMMUNITY GARAGE SALE
URL:https://www.bluequailridge.org/event/community-garage-sale/
CATEGORIES:General
END:VEVENT
BEGIN:VEVENT
DTSTART;TZID=America/Chicago:20230610T130000
DTEND;TZID=America/Chicago:20230610T150000
DTSTAMP:20260425T170831
CREATED:20230216T170023Z
LAST-MODIFIED:20230216T170035Z
UID:1692-1686402000-1686409200@www.bluequailridge.org
SUMMARY:Tag Distribution at the Park Pavilion
DESCRIPTION:Saturday\, June 10th from 1:00-3:00:   TAG DISTRIBUTION at the PARK PAVILION
URL:https://www.bluequailridge.org/event/tag-distribution-at-the-park-pavilion-3/
LOCATION:Pavilion
CATEGORIES:Pavilion Reserved
END:VEVENT
BEGIN:VEVENT
DTSTART;TZID=America/Chicago:20230611T090000
DTEND;TZID=America/Chicago:20230611T130000
DTSTAMP:20260425T170831
CREATED:20230531T023802Z
LAST-MODIFIED:20230531T023802Z
UID:2014-1686474000-1686488400@www.bluequailridge.org
SUMMARY:Pool & Pavilion Reservation
DESCRIPTION:
URL:https://www.bluequailridge.org/event/pool-pavilion-reservation/
CATEGORIES:Pavilion Reserved,Pool Reserved
END:VEVENT
BEGIN:VEVENT
DTSTART;TZID=America/Chicago:20230613T180000
DTEND;TZID=America/Chicago:20230613T180000
DTSTAMP:20260425T170831
CREATED:20230612T013145Z
LAST-MODIFIED:20230612T013740Z
UID:2075-1686679200-1686679200@www.bluequailridge.org
SUMMARY:Monthly Board Meeting
DESCRIPTION:Francis Tuttle Technology Center  150th & Portland
URL:https://www.bluequailridge.org/event/monthly-board-meeting/
CATEGORIES:General
END:VEVENT
BEGIN:VEVENT
DTSTART;TZID=America/Chicago:20230630T200000
DTEND;TZID=America/Chicago:20230630T220000
DTSTAMP:20260425T170831
CREATED:20230613T201526Z
LAST-MODIFIED:20230616T234139Z
UID:2085-1688155200-1688162400@www.bluequailridge.org
SUMMARY:Pool Reservation
DESCRIPTION:
URL:https://www.bluequailridge.org/event/happy-hour-mixer/
CATEGORIES:Pool Reserved
END:VEVENT
END:VCALENDAR