BEGIN:VCALENDAR
VERSION:2.0
PRODID:-//Blue Quail Ridge Homeowners Association - ECPv6.15.20//NONSGML v1.0//EN
CALSCALE:GREGORIAN
METHOD:PUBLISH
X-WR-CALNAME:Blue Quail Ridge Homeowners Association
X-ORIGINAL-URL:https://www.bluequailridge.org
X-WR-CALDESC:Events for Blue Quail Ridge Homeowners Association
REFRESH-INTERVAL;VALUE=DURATION:PT1H
X-Robots-Tag:noindex
X-PUBLISHED-TTL:PT1H
BEGIN:VTIMEZONE
TZID:America/Chicago
BEGIN:DAYLIGHT
TZOFFSETFROM:-0600
TZOFFSETTO:-0500
TZNAME:CDT
DTSTART:20220313T080000
END:DAYLIGHT
BEGIN:STANDARD
TZOFFSETFROM:-0500
TZOFFSETTO:-0600
TZNAME:CST
DTSTART:20221106T070000
END:STANDARD
BEGIN:DAYLIGHT
TZOFFSETFROM:-0600
TZOFFSETTO:-0500
TZNAME:CDT
DTSTART:20230312T080000
END:DAYLIGHT
BEGIN:STANDARD
TZOFFSETFROM:-0500
TZOFFSETTO:-0600
TZNAME:CST
DTSTART:20231105T070000
END:STANDARD
BEGIN:DAYLIGHT
TZOFFSETFROM:-0600
TZOFFSETTO:-0500
TZNAME:CDT
DTSTART:20240310T080000
END:DAYLIGHT
BEGIN:STANDARD
TZOFFSETFROM:-0500
TZOFFSETTO:-0600
TZNAME:CST
DTSTART:20241103T070000
END:STANDARD
END:VTIMEZONE
BEGIN:VEVENT
DTSTART;TZID=America/Chicago:20230509T180000
DTEND;TZID=America/Chicago:20230509T190000
DTSTAMP:20260425T184304
CREATED:20230320T152733Z
LAST-MODIFIED:20230320T153025Z
UID:1760-1683655200-1683658800@www.bluequailridge.org
SUMMARY:Monthly Board Meeting
DESCRIPTION:Monthly Board Meeting on May 9 from 6:00 – 7:00 at Francis Tuttle Technology Center on 150th
URL:https://www.bluequailridge.org/event/monthly-board-meeting-2023-05/
LOCATION:Francis Tuttle Technology Center\, 3500 NW 150th St\, Oklahoma City\, OK\, 73134\, United States
CATEGORIES:General
END:VEVENT
BEGIN:VEVENT
DTSTART;TZID=America/Chicago:20230513T093000
DTEND;TZID=America/Chicago:20230513T113000
DTSTAMP:20260425T184304
CREATED:20230417T140653Z
LAST-MODIFIED:20230417T141328Z
UID:1830-1683970200-1683977400@www.bluequailridge.org
SUMMARY:Pavilion Reservation
DESCRIPTION:
URL:https://www.bluequailridge.org/event/private-party/
CATEGORIES:Pavilion Reserved
END:VEVENT
BEGIN:VEVENT
DTSTART;TZID=America/Chicago:20230513T130000
DTEND;TZID=America/Chicago:20230513T150000
DTSTAMP:20260425T184304
CREATED:20230216T165615Z
LAST-MODIFIED:20230216T165615Z
UID:1688-1683982800-1683990000@www.bluequailridge.org
SUMMARY:Tag Distribution at the Park Pavilion
DESCRIPTION:Saturday\, May 13th from 1:00 -3:00:  TAG DISTRIBUTION at the PARK PAVILION
URL:https://www.bluequailridge.org/event/tag-distribution-at-the-park-pavilion/
LOCATION:Pavilion
CATEGORIES:Pavilion Reserved
END:VEVENT
BEGIN:VEVENT
DTSTART;TZID=America/Chicago:20230520T100000
DTEND;TZID=America/Chicago:20230520T120000
DTSTAMP:20260425T184304
CREATED:20230216T165829Z
LAST-MODIFIED:20230216T165834Z
UID:1690-1684576800-1684584000@www.bluequailridge.org
SUMMARY:Tag Distribution at the Park Pavilion
DESCRIPTION:Saturday\, May 20th from 10:00-12:00:   TAG DISTRIBUTION at the PARK PAVILION
URL:https://www.bluequailridge.org/event/tag-distribution-at-the-park-pavilion-2/
LOCATION:Pavilion
CATEGORIES:Pavilion Reserved
END:VEVENT
BEGIN:VEVENT
DTSTART;TZID=America/Chicago:20230520T100000
DTEND;TZID=America/Chicago:20230520T120000
DTSTAMP:20260425T184304
CREATED:20230403T191649Z
LAST-MODIFIED:20230403T191649Z
UID:1766-1684576800-1684584000@www.bluequailridge.org
SUMMARY:Flower Day
DESCRIPTION:Flower Day\nMay 20\n10:00 am – 12:00 pm\nMeet at Pavilion
URL:https://www.bluequailridge.org/event/flower-day/
LOCATION:Pavilion
CATEGORIES:Pavilion Reserved
END:VEVENT
END:VCALENDAR