BEGIN:VCALENDAR
VERSION:2.0
PRODID:-//Blue Quail Ridge Homeowners Association - ECPv6.15.20//NONSGML v1.0//EN
CALSCALE:GREGORIAN
METHOD:PUBLISH
X-WR-CALNAME:Blue Quail Ridge Homeowners Association
X-ORIGINAL-URL:https://www.bluequailridge.org
X-WR-CALDESC:Events for Blue Quail Ridge Homeowners Association
REFRESH-INTERVAL;VALUE=DURATION:PT1H
X-Robots-Tag:noindex
X-PUBLISHED-TTL:PT1H
BEGIN:VTIMEZONE
TZID:America/Chicago
BEGIN:DAYLIGHT
TZOFFSETFROM:-0600
TZOFFSETTO:-0500
TZNAME:CDT
DTSTART:20190310T080000
END:DAYLIGHT
BEGIN:STANDARD
TZOFFSETFROM:-0500
TZOFFSETTO:-0600
TZNAME:CST
DTSTART:20191103T070000
END:STANDARD
BEGIN:DAYLIGHT
TZOFFSETFROM:-0600
TZOFFSETTO:-0500
TZNAME:CDT
DTSTART:20200308T080000
END:DAYLIGHT
BEGIN:STANDARD
TZOFFSETFROM:-0500
TZOFFSETTO:-0600
TZNAME:CST
DTSTART:20201101T070000
END:STANDARD
BEGIN:DAYLIGHT
TZOFFSETFROM:-0600
TZOFFSETTO:-0500
TZNAME:CDT
DTSTART:20210314T080000
END:DAYLIGHT
BEGIN:STANDARD
TZOFFSETFROM:-0500
TZOFFSETTO:-0600
TZNAME:CST
DTSTART:20211107T070000
END:STANDARD
END:VTIMEZONE
BEGIN:VEVENT
DTSTART;TZID=America/Chicago:20200802T130000
DTEND;TZID=America/Chicago:20200802T150000
DTSTAMP:20260425T111409
CREATED:20200722T150653Z
LAST-MODIFIED:20200722T150653Z
UID:1111-1596373200-1596380400@www.bluequailridge.org
SUMMARY:2020 Annual Picnic
DESCRIPTION:Inflatables for the kids! \nCatering by Freddy’s! \nMeet the HOA board! \nMeet your neighbors! \nQuestions?\nPlease use the “Sound Off Form”
URL:https://www.bluequailridge.org/event/2020-annual-picnic/
CATEGORIES:General
ATTACH;FMTTYPE=image/jpeg:https://www.bluequailridge.org/wp-content/uploads/2020/07/inflatables.jpg
END:VEVENT
BEGIN:VEVENT
DTSTART;TZID=America/Chicago:20200802T130000
DTEND;TZID=America/Chicago:20200802T150000
DTSTAMP:20260425T111409
CREATED:20200610T142158Z
LAST-MODIFIED:20200610T142158Z
UID:1031-1596373200-1596380400@www.bluequailridge.org
SUMMARY:2020 Annual Blue Quail Ridge Picnic
DESCRIPTION:August 2nd from 1-3 pm at the neighborhood pavilion.\nMore details to come….
URL:https://www.bluequailridge.org/event/2020-annual-blue-quail-ridge-picnic/
LOCATION:Pavilion
CATEGORIES:Pavilion Reserved
END:VEVENT
BEGIN:VEVENT
DTSTART;TZID=America/Chicago:20200801T100000
DTEND;TZID=America/Chicago:20200801T120000
DTSTAMP:20260425T111409
CREATED:20200722T145618Z
LAST-MODIFIED:20200722T145657Z
UID:1105-1596276000-1596283200@www.bluequailridge.org
SUMMARY:Pool Reservation
DESCRIPTION:Reserved by Stanley
URL:https://www.bluequailridge.org/event/pool-reservation-6/
LOCATION:Pool
CATEGORIES:Pool Reserved
END:VEVENT
BEGIN:VEVENT
DTSTART;TZID=America/Chicago:20200731T200000
DTEND;TZID=America/Chicago:20200731T220000
DTSTAMP:20260425T111409
CREATED:20200722T151544Z
LAST-MODIFIED:20200722T152130Z
UID:1118-1596225600-1596232800@www.bluequailridge.org
SUMMARY:BQR Movie Night
DESCRIPTION:
URL:https://www.bluequailridge.org/event/bqr-movie-night/
LOCATION:Pool
CATEGORIES:Pool Reserved
END:VEVENT
BEGIN:VEVENT
DTSTART;TZID=America/Chicago:20200731T130000
DTEND;TZID=America/Chicago:20200731T200000
DTSTAMP:20260425T111409
CREATED:20200717T150652Z
LAST-MODIFIED:20200717T150658Z
UID:1095-1596200400-1596225600@www.bluequailridge.org
SUMMARY:Pavilion Reservation
DESCRIPTION:Reserved by Frank-Pearce
URL:https://www.bluequailridge.org/event/pavilion-reservation-2020-07-31/
LOCATION:Pavilion
CATEGORIES:Pavilion Reserved
END:VEVENT
BEGIN:VEVENT
DTSTART;TZID=America/Chicago:20200726T020000
DTEND;TZID=America/Chicago:20200726T170000
DTSTAMP:20260425T111409
CREATED:20200625T140025Z
LAST-MODIFIED:20200625T140054Z
UID:1071-1595728800-1595782800@www.bluequailridge.org
SUMMARY:Pavilion Reservation
DESCRIPTION:Reserved by Miller
URL:https://www.bluequailridge.org/event/pavilion-reservation-2020-07-26/
LOCATION:Pavilion
CATEGORIES:Pavilion Reserved
END:VEVENT
BEGIN:VEVENT
DTSTART;TZID=America/Chicago:20200722T200000
DTEND;TZID=America/Chicago:20200722T220000
DTSTAMP:20260425T111409
CREATED:20200717T150844Z
LAST-MODIFIED:20200717T150850Z
UID:1097-1595448000-1595455200@www.bluequailridge.org
SUMMARY:Pool Reservation
DESCRIPTION:Reserved by Hall
URL:https://www.bluequailridge.org/event/pool-reservation-2020-07-22/
LOCATION:Pool
CATEGORIES:Pool Reserved
END:VEVENT
BEGIN:VEVENT
DTSTART;TZID=America/Chicago:20200722T180000
DTEND;TZID=America/Chicago:20200722T210000
DTSTAMP:20260425T111409
CREATED:20200622T142013Z
LAST-MODIFIED:20200622T142154Z
UID:1066-1595440800-1595451600@www.bluequailridge.org
SUMMARY:Pavilion Reservation
DESCRIPTION:Reserved by Hall
URL:https://www.bluequailridge.org/event/pavilion-reservation-2020-07-22/
LOCATION:Pavilion
CATEGORIES:Pavilion Reserved
END:VEVENT
BEGIN:VEVENT
DTSTART;TZID=America/Chicago:20200721T200000
DTEND;TZID=America/Chicago:20200721T220000
DTSTAMP:20260425T111409
CREATED:20200720T145823Z
LAST-MODIFIED:20200722T145927Z
UID:1107-1595361600-1595368800@www.bluequailridge.org
SUMMARY:Pool Reservation
DESCRIPTION:Reserved by Schwettmann
URL:https://www.bluequailridge.org/event/pool-reservation-2020-07-21/
LOCATION:Pool
CATEGORIES:Pool Reserved
END:VEVENT
BEGIN:VEVENT
DTSTART;TZID=America/Chicago:20200721T170000
DTEND;TZID=America/Chicago:20200721T190000
DTSTAMP:20260425T111409
CREATED:20200616T154305Z
LAST-MODIFIED:20200616T154611Z
UID:1052-1595350800-1595358000@www.bluequailridge.org
SUMMARY:MOB Burgers Food Truck
DESCRIPTION:July 21st 5-7 pm.
URL:https://www.bluequailridge.org/event/mob-burgers-food-truck/
CATEGORIES:General
END:VEVENT
BEGIN:VEVENT
DTSTART;TZID=America/Chicago:20200719T100000
DTEND;TZID=America/Chicago:20200719T130000
DTSTAMP:20260425T111409
CREATED:20200710T155303Z
LAST-MODIFIED:20200710T155341Z
UID:1086-1595152800-1595163600@www.bluequailridge.org
SUMMARY:Pool Reservation
DESCRIPTION:Reserved by Whaley
URL:https://www.bluequailridge.org/event/pool-reservation-2020-07-19/
LOCATION:Pool
CATEGORIES:Pool Reserved
END:VEVENT
BEGIN:VEVENT
DTSTART;TZID=America/Chicago:20200718T200000
DTEND;TZID=America/Chicago:20200718T220000
DTSTAMP:20260425T111409
CREATED:20200615T211839Z
LAST-MODIFIED:20200615T212124Z
UID:1047-1595102400-1595109600@www.bluequailridge.org
SUMMARY:Pool Reservation
DESCRIPTION:Reserved by: Morris
URL:https://www.bluequailridge.org/event/pool-reservation-2020-07-18-8pm/
LOCATION:Pool
CATEGORIES:Pool Reserved
END:VEVENT
BEGIN:VEVENT
DTSTART;TZID=America/Chicago:20200718T100000
DTEND;TZID=America/Chicago:20200718T120000
DTSTAMP:20260425T111409
CREATED:20200708T143140Z
LAST-MODIFIED:20200708T143316Z
UID:1079-1595066400-1595073600@www.bluequailridge.org
SUMMARY:Pool Reservation
DESCRIPTION:Reserved by: Damron
URL:https://www.bluequailridge.org/event/pool-reservation-2020-07-18-2/
LOCATION:Pool
CATEGORIES:Pool Reserved
END:VEVENT
BEGIN:VEVENT
DTSTART;TZID=America/Chicago:20200718T093000
DTEND;TZID=America/Chicago:20200718T233000
DTSTAMP:20260425T111409
CREATED:20200603T154015Z
LAST-MODIFIED:20200605T223822Z
UID:996-1595064600-1595115000@www.bluequailridge.org
SUMMARY:Pool Reservation
DESCRIPTION:Reserved by Damron
URL:https://www.bluequailridge.org/event/pool-reservation-2020-07-18/
LOCATION:Pool
CATEGORIES:Pool Reserved
END:VEVENT
BEGIN:VEVENT
DTSTART;TZID=America/Chicago:20200717T200000
DTEND;TZID=America/Chicago:20200717T220000
DTSTAMP:20260425T111409
CREATED:20200622T141153Z
LAST-MODIFIED:20200708T145145Z
UID:1060-1595016000-1595023200@www.bluequailridge.org
SUMMARY:Pool Reservation
DESCRIPTION:Reserved by Frederick
URL:https://www.bluequailridge.org/event/pool-reservation-2020-07-17-2/
LOCATION:Pool
CATEGORIES:Pool Reserved
END:VEVENT
BEGIN:VEVENT
DTSTART;TZID=America/Chicago:20200717T200000
DTEND;TZID=America/Chicago:20200717T220000
DTSTAMP:20260425T111409
CREATED:20200618T142734Z
LAST-MODIFIED:20200618T142808Z
UID:1056-1595016000-1595023200@www.bluequailridge.org
SUMMARY:Pool Reservation
DESCRIPTION:Reserved by Hobbs
URL:https://www.bluequailridge.org/event/pool-reservation-2020-07-17/
LOCATION:Pool
CATEGORIES:Pool Reserved
END:VEVENT
BEGIN:VEVENT
DTSTART;TZID=America/Chicago:20200717T180000
DTEND;TZID=America/Chicago:20200717T230000
DTSTAMP:20260425T111409
CREATED:20200708T142521Z
LAST-MODIFIED:20200708T142927Z
UID:1076-1595008800-1595026800@www.bluequailridge.org
SUMMARY:Pavilion Reservation
DESCRIPTION:Reserved by: Frederick
URL:https://www.bluequailridge.org/event/pavilion-reservation-2020-07-17-2/
LOCATION:Pavilion
CATEGORIES:Pavilion Reserved
END:VEVENT
BEGIN:VEVENT
DTSTART;TZID=America/Chicago:20200712T090000
DTEND;TZID=America/Chicago:20200712T120000
DTSTAMP:20260425T111409
CREATED:20200615T205808Z
LAST-MODIFIED:20200708T144505Z
UID:1045-1594544400-1594555200@www.bluequailridge.org
SUMMARY:Pool Reservation
DESCRIPTION:Reserved by: Hallenback
URL:https://www.bluequailridge.org/event/pool-reservation-2020-07-11/
LOCATION:Pool
CATEGORIES:Pool Reserved
END:VEVENT
BEGIN:VEVENT
DTSTART;TZID=America/Chicago:20200707T170000
DTEND;TZID=America/Chicago:20200707T190000
DTSTAMP:20260425T111409
CREATED:20200622T141428Z
LAST-MODIFIED:20200622T141428Z
UID:1062-1594141200-1594148400@www.bluequailridge.org
SUMMARY:Snow Tyme Shaved Ice @ Pavilion
DESCRIPTION:
URL:https://www.bluequailridge.org/event/snow-tyme-shaved-ice-pavilion/
LOCATION:Pavilion
CATEGORIES:Pavilion Reserved
END:VEVENT
BEGIN:VEVENT
DTSTART;TZID=America/Chicago:20200705T080000
DTEND;TZID=America/Chicago:20200705T220000
DTSTAMP:20260425T111409
CREATED:20200615T204945Z
LAST-MODIFIED:20200615T205013Z
UID:1039-1593936000-1593986400@www.bluequailridge.org
SUMMARY:Pool Reservation
DESCRIPTION:Reserved by: Webb
URL:https://www.bluequailridge.org/event/pool-reservation-2020-07-05/
LOCATION:Pool
CATEGORIES:Pool Reserved
END:VEVENT
BEGIN:VEVENT
DTSTART;TZID=America/Chicago:20200703T200000
DTEND;TZID=America/Chicago:20200703T220000
DTSTAMP:20260425T111409
CREATED:20200618T142517Z
LAST-MODIFIED:20200618T142611Z
UID:1054-1593806400-1593813600@www.bluequailridge.org
SUMMARY:Pool Reservation
DESCRIPTION:Reserved by Hobbs
URL:https://www.bluequailridge.org/event/pool-reservation-2020-07-03/
LOCATION:Pool
CATEGORIES:Pool Reserved
END:VEVENT
BEGIN:VEVENT
DTSTART;TZID=America/Chicago:20200630T170000
DTEND;TZID=America/Chicago:20200630T190000
DTSTAMP:20260425T111409
CREATED:20200622T141745Z
LAST-MODIFIED:20200622T141745Z
UID:1064-1593536400-1593543600@www.bluequailridge.org
SUMMARY:David's Smok'n BBQ Food Truck @ Pavilion
DESCRIPTION:
URL:https://www.bluequailridge.org/event/davids-smokn-bbq-food-truck-pavilion/
LOCATION:Pavilion
CATEGORIES:Pavilion Reserved
END:VEVENT
BEGIN:VEVENT
DTSTART;TZID=America/Chicago:20200628T100000
DTEND;TZID=America/Chicago:20200628T130000
DTSTAMP:20260425T111409
CREATED:20200608T194241Z
LAST-MODIFIED:20200608T194327Z
UID:1023-1593338400-1593349200@www.bluequailridge.org
SUMMARY:Pavilion Reservation
DESCRIPTION:Reserved by: Mowdy
URL:https://www.bluequailridge.org/event/pavilion-reservation-2020-06-28/
LOCATION:Pavilion
CATEGORIES:Pavilion Reserved
END:VEVENT
BEGIN:VEVENT
DTSTART;TZID=America/Chicago:20200628T100000
DTEND;TZID=America/Chicago:20200628T120000
DTSTAMP:20260425T111409
CREATED:20200608T194626Z
LAST-MODIFIED:20200608T194626Z
UID:1025-1593338400-1593345600@www.bluequailridge.org
SUMMARY:Pool Reservation
DESCRIPTION:Reserved by: Mowdy
URL:https://www.bluequailridge.org/event/pool-reservation-2020-06-28/
LOCATION:Pool
CATEGORIES:Pool Reserved
END:VEVENT
BEGIN:VEVENT
DTSTART;TZID=America/Chicago:20200627T100000
DTEND;TZID=America/Chicago:20200627T120000
DTSTAMP:20260425T111409
CREATED:20200605T221600Z
LAST-MODIFIED:20200605T224308Z
UID:1011-1593252000-1593259200@www.bluequailridge.org
SUMMARY:Pavilion and Pool Reservation
DESCRIPTION:Reserved by: Morris
URL:https://www.bluequailridge.org/event/pool-pool-reservation-2020-07-27/
LOCATION:Pool and Pavilion
CATEGORIES:Pavilion Reserved,Pool Reserved
END:VEVENT
BEGIN:VEVENT
DTSTART;TZID=America/Chicago:20200626T180000
DTEND;TZID=America/Chicago:20200626T200000
DTSTAMP:20260425T111409
CREATED:20200615T205451Z
LAST-MODIFIED:20200622T212900Z
UID:1043-1593194400-1593201600@www.bluequailridge.org
SUMMARY:Pavilion Reservation
DESCRIPTION:Reserved by: Stough
URL:https://www.bluequailridge.org/event/pavilion-reservation-2020-06-26/
LOCATION:Pavilion
CATEGORIES:Pavilion Reserved
END:VEVENT
BEGIN:VEVENT
DTSTART;TZID=America/Chicago:20200625T170000
DTEND;TZID=America/Chicago:20200625T190000
DTSTAMP:20260425T111409
CREATED:20200608T144904Z
LAST-MODIFIED:20200608T145004Z
UID:1020-1593104400-1593111600@www.bluequailridge.org
SUMMARY:Pavilion Reservation
DESCRIPTION:Reserved by: Boyer
URL:https://www.bluequailridge.org/event/pavilion-reservation-2020-06-25/
LOCATION:Pavilion
CATEGORIES:Pavilion Reserved
END:VEVENT
BEGIN:VEVENT
DTSTART;TZID=America/Chicago:20200625T100000
DTEND;TZID=America/Chicago:20200625T120000
DTSTAMP:20260425T111409
CREATED:20200605T215640Z
LAST-MODIFIED:20200605T223957Z
UID:1009-1593079200-1593086400@www.bluequailridge.org
SUMMARY:Pool Reservation
DESCRIPTION:Reserved by: Romo
URL:https://www.bluequailridge.org/event/pool-reservation-12020-06-25/
LOCATION:Pool
CATEGORIES:Pool Reserved
END:VEVENT
BEGIN:VEVENT
DTSTART;TZID=America/Chicago:20200624T100000
DTEND;TZID=America/Chicago:20200624T120000
DTSTAMP:20260425T111409
CREATED:20200605T214825Z
LAST-MODIFIED:20200605T224003Z
UID:1007-1592992800-1593000000@www.bluequailridge.org
SUMMARY:Pool Reservation
DESCRIPTION:Reserved by: Romo
URL:https://www.bluequailridge.org/event/pool-reservation-2020-06-24/
LOCATION:Pool
CATEGORIES:Pool Reserved
END:VEVENT
BEGIN:VEVENT
DTSTART;TZID=America/Chicago:20200620T133000
DTEND;TZID=America/Chicago:20200620T163000
DTSTAMP:20260425T111409
CREATED:20200526T212247Z
LAST-MODIFIED:20200526T212247Z
UID:991-1592659800-1592670600@www.bluequailridge.org
SUMMARY:Pavilion Reservation
DESCRIPTION:Reserved by: Davis
URL:https://www.bluequailridge.org/event/pavilion-reservation-2020-06-20/
LOCATION:Pavilion
CATEGORIES:Pavilion Reserved
END:VEVENT
END:VCALENDAR