BEGIN:VCALENDAR
VERSION:2.0
PRODID:-//Blue Quail Ridge Homeowners Association - ECPv6.15.20//NONSGML v1.0//EN
CALSCALE:GREGORIAN
METHOD:PUBLISH
X-WR-CALNAME:Blue Quail Ridge Homeowners Association
X-ORIGINAL-URL:https://www.bluequailridge.org
X-WR-CALDESC:Events for Blue Quail Ridge Homeowners Association
REFRESH-INTERVAL;VALUE=DURATION:PT1H
X-Robots-Tag:noindex
X-PUBLISHED-TTL:PT1H
BEGIN:VTIMEZONE
TZID:America/Chicago
BEGIN:DAYLIGHT
TZOFFSETFROM:-0600
TZOFFSETTO:-0500
TZNAME:CDT
DTSTART:20180311T080000
END:DAYLIGHT
BEGIN:STANDARD
TZOFFSETFROM:-0500
TZOFFSETTO:-0600
TZNAME:CST
DTSTART:20181104T070000
END:STANDARD
BEGIN:DAYLIGHT
TZOFFSETFROM:-0600
TZOFFSETTO:-0500
TZNAME:CDT
DTSTART:20190310T080000
END:DAYLIGHT
BEGIN:STANDARD
TZOFFSETFROM:-0500
TZOFFSETTO:-0600
TZNAME:CST
DTSTART:20191103T070000
END:STANDARD
BEGIN:DAYLIGHT
TZOFFSETFROM:-0600
TZOFFSETTO:-0500
TZNAME:CDT
DTSTART:20200308T080000
END:DAYLIGHT
BEGIN:STANDARD
TZOFFSETFROM:-0500
TZOFFSETTO:-0600
TZNAME:CST
DTSTART:20201101T070000
END:STANDARD
BEGIN:DAYLIGHT
TZOFFSETFROM:-0600
TZOFFSETTO:-0500
TZNAME:CDT
DTSTART:20210314T080000
END:DAYLIGHT
BEGIN:STANDARD
TZOFFSETFROM:-0500
TZOFFSETTO:-0600
TZNAME:CST
DTSTART:20211107T070000
END:STANDARD
END:VTIMEZONE
BEGIN:VTIMEZONE
TZID:America/New_York
BEGIN:DAYLIGHT
TZOFFSETFROM:-0500
TZOFFSETTO:-0400
TZNAME:EDT
DTSTART:20180311T070000
END:DAYLIGHT
BEGIN:STANDARD
TZOFFSETFROM:-0400
TZOFFSETTO:-0500
TZNAME:EST
DTSTART:20181104T060000
END:STANDARD
BEGIN:DAYLIGHT
TZOFFSETFROM:-0500
TZOFFSETTO:-0400
TZNAME:EDT
DTSTART:20190310T070000
END:DAYLIGHT
BEGIN:STANDARD
TZOFFSETFROM:-0400
TZOFFSETTO:-0500
TZNAME:EST
DTSTART:20191103T060000
END:STANDARD
BEGIN:DAYLIGHT
TZOFFSETFROM:-0500
TZOFFSETTO:-0400
TZNAME:EDT
DTSTART:20200308T070000
END:DAYLIGHT
BEGIN:STANDARD
TZOFFSETFROM:-0400
TZOFFSETTO:-0500
TZNAME:EST
DTSTART:20201101T060000
END:STANDARD
END:VTIMEZONE
BEGIN:VTIMEZONE
TZID:UTC
BEGIN:STANDARD
TZOFFSETFROM:+0000
TZOFFSETTO:+0000
TZNAME:UTC
DTSTART:20160101T000000
END:STANDARD
END:VTIMEZONE
BEGIN:VEVENT
DTSTART;TZID=America/Chicago:20200404T110000
DTEND;TZID=America/Chicago:20200405T010000
DTSTAMP:20260425T063057
CREATED:20200309T165213Z
LAST-MODIFIED:20200309T165346Z
UID:947-1585998000-1586048400@www.bluequailridge.org
SUMMARY:Pavilion Reservation
DESCRIPTION:Schmidt
URL:https://www.bluequailridge.org/event/pavilion-reservation-2020-04-04/
CATEGORIES:Pavilion Reserved
END:VEVENT
BEGIN:VEVENT
DTSTART;TZID=America/Chicago:20190914T110000
DTEND;TZID=America/Chicago:20190914T140000
DTSTAMP:20260425T063057
CREATED:20190806T173629Z
LAST-MODIFIED:20190806T173629Z
UID:884-1568458800-1568469600@www.bluequailridge.org
SUMMARY:Pavilion Reservation
DESCRIPTION:Reserved by Harris
URL:https://www.bluequailridge.org/event/pavilion-reservation-8/
LOCATION:Pavilion
CATEGORIES:Pavilion Reserved
END:VEVENT
BEGIN:VEVENT
DTSTART;TZID=America/Chicago:20190901T160000
DTEND;TZID=America/Chicago:20190901T190000
DTSTAMP:20260425T063057
CREATED:20190726T182503Z
LAST-MODIFIED:20190726T182538Z
UID:873-1567353600-1567364400@www.bluequailridge.org
SUMMARY:Pavilion Reserved
DESCRIPTION:Reserved by Mowdy
URL:https://www.bluequailridge.org/event/pavilion-reserved-4-7-p-m/
LOCATION:Pavilion
CATEGORIES:Pavilion Reserved
END:VEVENT
BEGIN:VEVENT
DTSTART;TZID=America/Chicago:20190831T190000
DTEND;TZID=America/Chicago:20190831T220000
DTSTAMP:20260425T063057
CREATED:20190826T150532Z
LAST-MODIFIED:20190826T150628Z
UID:898-1567278000-1567288800@www.bluequailridge.org
SUMMARY:Pavilion Reserved
DESCRIPTION:Reserved by Hall
URL:https://www.bluequailridge.org/event/pavilion-reserved-hall/
LOCATION:Pavilion
CATEGORIES:Pavilion Reserved
END:VEVENT
BEGIN:VEVENT
DTSTART;TZID=America/Chicago:20190824T180000
DTEND;TZID=America/Chicago:20190824T200000
DTSTAMP:20260425T063057
CREATED:20190806T174934Z
LAST-MODIFIED:20190806T174934Z
UID:889-1566669600-1566676800@www.bluequailridge.org
SUMMARY:Pavilion Reservation
DESCRIPTION:Reserved by Sasnett
URL:https://www.bluequailridge.org/event/pavilion-reservation-9/
LOCATION:Pavilion
CATEGORIES:Pavilion Reserved
END:VEVENT
BEGIN:VEVENT
DTSTART;VALUE=DATE:20190824
DTEND;VALUE=DATE:20190825
DTSTAMP:20260425T063057
CREATED:20190820T151903Z
LAST-MODIFIED:20190820T151903Z
UID:896-1566604800-1566691199@www.bluequailridge.org
SUMMARY:Pool Reservation
DESCRIPTION:Reserved by Schwettmann
URL:https://www.bluequailridge.org/event/pool-reservation-5/
CATEGORIES:Pool Reserved
END:VEVENT
BEGIN:VEVENT
DTSTART;TZID=America/Chicago:20190811T110000
DTEND;TZID=America/Chicago:20190811T140000
DTSTAMP:20260425T063057
CREATED:20190513T155819Z
LAST-MODIFIED:20190726T182758Z
UID:833-1565521200-1565532000@www.bluequailridge.org
SUMMARY:Pavilion Reserved
DESCRIPTION:Reserved by Major\nAugust 11\n11am-2pm
URL:https://www.bluequailridge.org/event/pavilion-reservation-3/
LOCATION:Pavilion
CATEGORIES:Pavilion Reserved
END:VEVENT
BEGIN:VEVENT
DTSTART;TZID=America/Chicago:20190810T200000
DTEND;TZID=America/Chicago:20190810T220000
DTSTAMP:20260425T063057
CREATED:20190726T182651Z
LAST-MODIFIED:20190726T182651Z
UID:878-1565467200-1565474400@www.bluequailridge.org
SUMMARY:Pavilion Reserved
DESCRIPTION:Reserved by Hall
URL:https://www.bluequailridge.org/event/pavilion-reserved/
LOCATION:Pavilion
CATEGORIES:Pavilion Reserved
END:VEVENT
BEGIN:VEVENT
DTSTART;TZID=America/Chicago:20190810T100000
DTEND;TZID=America/Chicago:20190810T120000
DTSTAMP:20260425T063057
CREATED:20190806T174648Z
LAST-MODIFIED:20190806T174733Z
UID:886-1565431200-1565438400@www.bluequailridge.org
SUMMARY:Pool Reservation
DESCRIPTION:Reserved by Ritchal
URL:https://www.bluequailridge.org/event/ritchal/
LOCATION:Pool
CATEGORIES:Pool Reserved
END:VEVENT
BEGIN:VEVENT
DTSTART;TZID=America/Chicago:20190727T120000
DTEND;TZID=America/Chicago:20190727T150000
DTSTAMP:20260425T063057
CREATED:20190617T203149Z
LAST-MODIFIED:20190726T182805Z
UID:854-1564228800-1564239600@www.bluequailridge.org
SUMMARY:Pavilion Reserved
DESCRIPTION:Reserved by Miller \nJuly 27 \n12:00am – 3:00pm
URL:https://www.bluequailridge.org/event/pavilion-reservation-6/
LOCATION:Pavilion
CATEGORIES:Pavilion Reserved
END:VEVENT
BEGIN:VEVENT
DTSTART;TZID=America/Chicago:20190720T100000
DTEND;TZID=America/Chicago:20190720T120000
DTSTAMP:20260425T063057
CREATED:20190626T214456Z
LAST-MODIFIED:20190626T214456Z
UID:861-1563616800-1563624000@www.bluequailridge.org
SUMMARY:Pool Reservation
DESCRIPTION:Reserved by Gremillion \nJuly 20 \n10am-12pm
URL:https://www.bluequailridge.org/event/pool-reservation-4/
LOCATION:Pool
CATEGORIES:Pool Reserved
END:VEVENT
BEGIN:VEVENT
DTSTART;TZID=America/Chicago:20190713T163000
DTEND;TZID=America/Chicago:20190713T193000
DTSTAMP:20260425T063057
CREATED:20190709T214859Z
LAST-MODIFIED:20190709T214936Z
UID:868-1563035400-1563046200@www.bluequailridge.org
SUMMARY:Pavilion Reservation
DESCRIPTION:Reserved by Nguyen \nJuly 13 \n4:30pm-7:30pm
URL:https://www.bluequailridge.org/event/pavilion-reservation-2019-07-13/
LOCATION:Pavilion
CATEGORIES:Pavilion Reserved
END:VEVENT
BEGIN:VEVENT
DTSTART;TZID=America/Chicago:20190706T170000
DTEND;TZID=America/Chicago:20190706T200000
DTSTAMP:20260425T063057
CREATED:20190702T161013Z
LAST-MODIFIED:20190702T170600Z
UID:863-1562432400-1562443200@www.bluequailridge.org
SUMMARY:Pavilion Reservation
DESCRIPTION:Reserved by Robinson  \nJuly 6 \n5pm-8pm
URL:https://www.bluequailridge.org/event/pavilion-reservation-7/
LOCATION:Pavilion
CATEGORIES:Pavilion Reserved
END:VEVENT
BEGIN:VEVENT
DTSTART;TZID=America/Chicago:20190629T100000
DTEND;TZID=America/Chicago:20190629T120000
DTSTAMP:20260425T063057
CREATED:20190513T155659Z
LAST-MODIFIED:20190513T155718Z
UID:831-1561802400-1561809600@www.bluequailridge.org
SUMMARY:Pool Reservation
DESCRIPTION:Reserved by Davis \nJune 29 \n10am-12pm
URL:https://www.bluequailridge.org/event/pool-reservation-2/
LOCATION:Pool
CATEGORIES:Pool Reserved
END:VEVENT
BEGIN:VEVENT
DTSTART;TZID=America/Chicago:20190622T100000
DTEND;TZID=America/Chicago:20190622T130000
DTSTAMP:20260425T063057
CREATED:20190603T142121Z
LAST-MODIFIED:20190603T142121Z
UID:850-1561197600-1561208400@www.bluequailridge.org
SUMMARY:Pavilion Reservation
DESCRIPTION:Reserved by Schmidt \nJune 22 \n10:00am – 1:00pm
URL:https://www.bluequailridge.org/event/pavilion-reservation-5/
LOCATION:Pavilion
CATEGORIES:Pavilion Reserved
END:VEVENT
BEGIN:VEVENT
DTSTART;TZID=America/Chicago:20190622T100000
DTEND;TZID=America/Chicago:20190622T120000
DTSTAMP:20260425T063057
CREATED:20190603T141915Z
LAST-MODIFIED:20190603T142152Z
UID:848-1561197600-1561204800@www.bluequailridge.org
SUMMARY:Pool Reservation
DESCRIPTION:Reserved by Schmidt \nJune 22 \n10:00am – 12:00pm
URL:https://www.bluequailridge.org/event/pool-reservation-3/
LOCATION:Pool
CATEGORIES:Pool Reserved
END:VEVENT
BEGIN:VEVENT
DTSTART;TZID=America/New_York:20190608T080000
DTEND;TZID=America/New_York:20190608T110000
DTSTAMP:20260425T063057
CREATED:20190415T194217Z
LAST-MODIFIED:20190513T155505Z
UID:816-1559980800-1559991600@www.bluequailridge.org
SUMMARY:Pool/Pavilion Reserved
DESCRIPTION:Reserved by Cole.
URL:https://www.bluequailridge.org/event/pool-pavilion-reserved/
LOCATION:Pavilion
CATEGORIES:Pavilion Reserved,Pool Reserved
END:VEVENT
BEGIN:VEVENT
DTSTART;VALUE=DATE:20190608
DTEND;VALUE=DATE:20190609
DTSTAMP:20260425T063057
CREATED:20190516T203610Z
LAST-MODIFIED:20190516T203708Z
UID:840-1559952000-1560038399@www.bluequailridge.org
SUMMARY:Neighborhood Garage Sale
DESCRIPTION:Neighborhood Garage Sale on June 8th!
URL:https://www.bluequailridge.org/event/neighborhood-garage-sale-on-june-8th/
CATEGORIES:General
END:VEVENT
BEGIN:VEVENT
DTSTART;TZID=America/Chicago:20190601T130000
DTEND;TZID=America/Chicago:20190601T160000
DTSTAMP:20260425T063057
CREATED:20190513T155919Z
LAST-MODIFIED:20190513T155919Z
UID:835-1559394000-1559404800@www.bluequailridge.org
SUMMARY:Pavilion Reservation
DESCRIPTION:Reserved by Smith \nJune 1 \n1pm-4pm
URL:https://www.bluequailridge.org/event/pavilion-reservation-4/
LOCATION:Pavilion
CATEGORIES:Pavilion Reserved
END:VEVENT
BEGIN:VEVENT
DTSTART;TZID=America/New_York:20190601T100000
DTEND;TZID=America/New_York:20190601T120000
DTSTAMP:20260425T063057
CREATED:20190513T155202Z
LAST-MODIFIED:20220915T203333Z
UID:828-1559383200-1559390400@www.bluequailridge.org
SUMMARY:Pool Reservation
DESCRIPTION:Reserved by Davis \nJune 1 \n10am-12pm
URL:https://www.bluequailridge.org/event/pool-reservation/
LOCATION:Pool
CATEGORIES:Pool Reserved
END:VEVENT
BEGIN:VEVENT
DTSTART;TZID=America/New_York:20190108T190000
DTEND;TZID=America/New_York:20190108T200000
DTSTAMP:20260425T063057
CREATED:20181126T171221Z
LAST-MODIFIED:20181127T163938Z
UID:789-1546974000-1546977600@www.bluequailridge.org
SUMMARY:2019 Annual HOA meeting will be held on 1/8/19 from 7-8 p.m. at Francis Tuttle Technology Center located at 3500 NW 150th St.
DESCRIPTION:2019 Annual HOA meeting will be held on 1/8/19 from 7-8 p.m. at Francis Tuttle Technology Center located at 3500 NW 150th St.
URL:https://www.bluequailridge.org/event/2019-annual-hoa-meeting/
LOCATION:Francis Tuttle Technology Center\, 3500 NW 150th St\, Oklahoma City\, OK\, 73134\, United States
CATEGORIES:General
END:VEVENT
BEGIN:VEVENT
DTSTART;VALUE=DATE:20180609
DTEND;VALUE=DATE:20180610
DTSTAMP:20260425T063057
CREATED:20180331T020440Z
LAST-MODIFIED:20180427T033927Z
UID:579-1528502400-1528588799@www.bluequailridge.org
SUMMARY:Neighboorhood Garage Sale
DESCRIPTION:You will need to get a permit\, but it’s only $7. It’s easy. You can get it over the phone by calling 297-2606 or go on-line at www.okc.gov/services/garage_sale. Clean out your closets! Don’t miss this opportunity!
URL:https://www.bluequailridge.org/event/neighboorhood-garage-sale/
CATEGORIES:General
END:VEVENT
BEGIN:VEVENT
DTSTART;TZID=UTC:20180526T100000
DTEND;TZID=UTC:20180526T120000
DTSTAMP:20260425T063057
CREATED:20180427T033405Z
LAST-MODIFIED:20180427T033747Z
UID:621-1527328800-1527336000@www.bluequailridge.org
SUMMARY:Pool Tags - Pavilion
DESCRIPTION:Pool tags will be handed out on the schedule noted below to those to those who are current on their 2018 dues.
URL:https://www.bluequailridge.org/event/pool-tags-pavilion-3/
LOCATION:Pavilion
END:VEVENT
BEGIN:VEVENT
DTSTART;VALUE=DATE:20180526
DTEND;VALUE=DATE:20180527
DTSTAMP:20260425T063057
CREATED:20180427T032913Z
LAST-MODIFIED:20180427T033537Z
UID:612-1527292800-1527379199@www.bluequailridge.org
SUMMARY:Pool Opens at Noon
DESCRIPTION:It’s that time again! Pool will open at NOON on Saturday\, May 26\nPool Hours: Tuesdays-Saturdays 12pm-8pm & Sundays 1pm – 8pm.
URL:https://www.bluequailridge.org/event/pool-opens-at-noon/
END:VEVENT
BEGIN:VEVENT
DTSTART;TZID=UTC:20180520T130000
DTEND;TZID=UTC:20180520T150000
DTSTAMP:20260425T063057
CREATED:20180427T033331Z
LAST-MODIFIED:20180427T033331Z
UID:619-1526821200-1526828400@www.bluequailridge.org
SUMMARY:Pool Tags - Pavilion
DESCRIPTION:
URL:https://www.bluequailridge.org/event/pool-tags-pavilion-2/
LOCATION:Pavilion
END:VEVENT
BEGIN:VEVENT
DTSTART;TZID=UTC:20180520T130000
DTEND;TZID=UTC:20180520T150000
DTSTAMP:20260425T063057
CREATED:20180427T033111Z
LAST-MODIFIED:20180427T034008Z
UID:614-1526821200-1526828400@www.bluequailridge.org
SUMMARY:Annual Neighborhood Picnic
DESCRIPTION:The annual neighborhood picnic will be on Sunday\, May 20\, from 1pm – 3pm at the pavilion. We will have Freddy’s Frozen Custard & Steakburgers catering the event again this year.Come on out and enjoy some good food\, fun\, and fellowship. \n2018 dues will be collected and pool passes handed out at this event.
URL:https://www.bluequailridge.org/event/annual-neighborhood-picnic/
CATEGORIES:General
END:VEVENT
BEGIN:VEVENT
DTSTART;TZID=UTC:20180512T133000
DTEND;TZID=UTC:20180512T153000
DTSTAMP:20260425T063057
CREATED:20180427T033258Z
LAST-MODIFIED:20180427T033800Z
UID:616-1526131800-1526139000@www.bluequailridge.org
SUMMARY:Pool Tags - Pavilion
DESCRIPTION:Pool tags will be handed out on the schedule noted below to those to those who are current on their 2018 dues.
URL:https://www.bluequailridge.org/event/pool-tags-pavilion/
LOCATION:Pavilion
CATEGORIES:General
END:VEVENT
BEGIN:VEVENT
DTSTART;TZID=UTC:20180426T100000
DTEND;TZID=UTC:20180426T120000
DTSTAMP:20260425T063057
CREATED:20180427T033433Z
LAST-MODIFIED:20180427T033811Z
UID:623-1524736800-1524744000@www.bluequailridge.org
SUMMARY:Pool Tags - Pavilion
DESCRIPTION:Pool tags will be handed out on the schedule noted below to those to those who are current on their 2018 dues.
URL:https://www.bluequailridge.org/event/pool-tags-pavilion-4/
LOCATION:Pavilion
CATEGORIES:General
END:VEVENT
BEGIN:VEVENT
DTSTART;TZID=UTC:20180109T183000
DTEND;TZID=UTC:20180109T183000
DTSTAMP:20260425T063057
CREATED:20171218T214304Z
LAST-MODIFIED:20171219T024930Z
UID:480-1515522600-1515522600@www.bluequailridge.org
SUMMARY:2018 Annual Homeowners Meeting
DESCRIPTION:Annual meeting will be on January 9\, 2018 at 6:30PM at the Francis Tuttle site on the corner of NW 150th and Portland. Please enter through the east side doors and turn left down the hallway. Signs will be up directing you to the meeting. Please take the time to attend this short meeting\, as it will be a great opportunity to get to know the HOA Board members and your neighbors. In addition\, you will be voting on the 2018 Budget and slate of Board members.
URL:https://www.bluequailridge.org/event/2018-annual-homeowners-meeting/
CATEGORIES:General
ATTACH;FMTTYPE=image/jpeg:https://www.bluequailridge.org/wp-content/uploads/2017/12/BQR_annualmeeting.jpg
END:VEVENT
BEGIN:VEVENT
DTSTART;TZID=UTC:20170603T100000
DTEND;TZID=UTC:20170603T120000
DTSTAMP:20260425T063057
CREATED:20170522T201908Z
LAST-MODIFIED:20180427T033826Z
UID:440-1496484000-1496491200@www.bluequailridge.org
SUMMARY:Pool Tags Handed Out
DESCRIPTION:Pool tags will be handed out on the schedule noted below to those to those who are current on their 2018 dues.
URL:https://www.bluequailridge.org/event/pool-tags-handed-out/
END:VEVENT
END:VCALENDAR