BEGIN:VCALENDAR
VERSION:2.0
PRODID:-//Blue Quail Ridge Homeowners Association - ECPv6.15.20//NONSGML v1.0//EN
CALSCALE:GREGORIAN
METHOD:PUBLISH
X-ORIGINAL-URL:https://www.bluequailridge.org
X-WR-CALDESC:Events for Blue Quail Ridge Homeowners Association
REFRESH-INTERVAL;VALUE=DURATION:PT1H
X-Robots-Tag:noindex
X-PUBLISHED-TTL:PT1H
BEGIN:VTIMEZONE
TZID:America/Chicago
BEGIN:DAYLIGHT
TZOFFSETFROM:-0600
TZOFFSETTO:-0500
TZNAME:CDT
DTSTART:20250309T080000
END:DAYLIGHT
BEGIN:STANDARD
TZOFFSETFROM:-0500
TZOFFSETTO:-0600
TZNAME:CST
DTSTART:20251102T070000
END:STANDARD
BEGIN:DAYLIGHT
TZOFFSETFROM:-0600
TZOFFSETTO:-0500
TZNAME:CDT
DTSTART:20260308T080000
END:DAYLIGHT
BEGIN:STANDARD
TZOFFSETFROM:-0500
TZOFFSETTO:-0600
TZNAME:CST
DTSTART:20261101T070000
END:STANDARD
BEGIN:DAYLIGHT
TZOFFSETFROM:-0600
TZOFFSETTO:-0500
TZNAME:CDT
DTSTART:20270314T080000
END:DAYLIGHT
BEGIN:STANDARD
TZOFFSETFROM:-0500
TZOFFSETTO:-0600
TZNAME:CST
DTSTART:20271107T070000
END:STANDARD
END:VTIMEZONE
BEGIN:VEVENT
DTSTART;TZID=America/Chicago:20260517T130000
DTEND;TZID=America/Chicago:20260517T150000
DTSTAMP:20260423T172500
CREATED:20260318T165638Z
LAST-MODIFIED:20260318T171001Z
UID:2460-1779022800-1779030000@www.bluequailridge.org
SUMMARY:Annual Neighborhood Picnic
DESCRIPTION:
URL:https://www.bluequailridge.org/event/annual-neighborhood-picnic-2026-5-17/
ATTACH;FMTTYPE=image/jpeg:https://www.bluequailridge.org/wp-content/uploads/2026/03/2026-PIcnic-scaled.jpg
END:VEVENT
BEGIN:VEVENT
DTSTART;VALUE=DATE:20260605
DTEND;VALUE=DATE:20260608
DTSTAMP:20260423T172500
CREATED:20260318T170648Z
LAST-MODIFIED:20260318T170648Z
UID:2465-1780617600-1780876799@www.bluequailridge.org
SUMMARY:Blue Quail Ridge Annual Garage Sale
DESCRIPTION:
URL:https://www.bluequailridge.org/event/blue-quail-ridge-annual-garage-sale/
ATTACH;FMTTYPE=image/png:https://www.bluequailridge.org/wp-content/uploads/2026/03/2026-Neighborhood-Garage-Sale.png
END:VEVENT
END:VCALENDAR