BEGIN:VCALENDAR
VERSION:2.0
PRODID:-//Blue Quail Ridge Homeowners Association - ECPv6.15.20//NONSGML v1.0//EN
CALSCALE:GREGORIAN
METHOD:PUBLISH
X-ORIGINAL-URL:https://www.bluequailridge.org
X-WR-CALDESC:Events for Blue Quail Ridge Homeowners Association
REFRESH-INTERVAL;VALUE=DURATION:PT1H
X-Robots-Tag:noindex
X-PUBLISHED-TTL:PT1H
BEGIN:VTIMEZONE
TZID:America/Chicago
BEGIN:DAYLIGHT
TZOFFSETFROM:-0600
TZOFFSETTO:-0500
TZNAME:CDT
DTSTART:20220313T080000
END:DAYLIGHT
BEGIN:STANDARD
TZOFFSETFROM:-0500
TZOFFSETTO:-0600
TZNAME:CST
DTSTART:20221106T070000
END:STANDARD
BEGIN:DAYLIGHT
TZOFFSETFROM:-0600
TZOFFSETTO:-0500
TZNAME:CDT
DTSTART:20230312T080000
END:DAYLIGHT
BEGIN:STANDARD
TZOFFSETFROM:-0500
TZOFFSETTO:-0600
TZNAME:CST
DTSTART:20231105T070000
END:STANDARD
BEGIN:DAYLIGHT
TZOFFSETFROM:-0600
TZOFFSETTO:-0500
TZNAME:CDT
DTSTART:20240310T080000
END:DAYLIGHT
BEGIN:STANDARD
TZOFFSETFROM:-0500
TZOFFSETTO:-0600
TZNAME:CST
DTSTART:20241103T070000
END:STANDARD
BEGIN:DAYLIGHT
TZOFFSETFROM:-0600
TZOFFSETTO:-0500
TZNAME:CDT
DTSTART:20250309T080000
END:DAYLIGHT
BEGIN:STANDARD
TZOFFSETFROM:-0500
TZOFFSETTO:-0600
TZNAME:CST
DTSTART:20251102T070000
END:STANDARD
BEGIN:DAYLIGHT
TZOFFSETFROM:-0600
TZOFFSETTO:-0500
TZNAME:CDT
DTSTART:20260308T080000
END:DAYLIGHT
BEGIN:STANDARD
TZOFFSETFROM:-0500
TZOFFSETTO:-0600
TZNAME:CST
DTSTART:20261101T070000
END:STANDARD
END:VTIMEZONE
BEGIN:VEVENT
DTSTART;TZID=America/Chicago:20250815T200000
DTEND;TZID=America/Chicago:20250815T220000
DTSTAMP:20260423T124043
CREATED:20250722T212549Z
LAST-MODIFIED:20250722T212549Z
UID:2433-1755288000-1755295200@www.bluequailridge.org
SUMMARY:Private Pool Reservation
DESCRIPTION:Private Pool Reservation on 8/15 from 8-10pm
URL:https://www.bluequailridge.org/event/private-pool-reservation/
LOCATION:Pool
CATEGORIES:Pool Reserved
END:VEVENT
BEGIN:VEVENT
DTSTART;VALUE=DATE:20250606
DTEND;VALUE=DATE:20250609
DTSTAMP:20260423T124043
CREATED:20250425T153212Z
LAST-MODIFIED:20250425T153222Z
UID:2406-1749168000-1749427199@www.bluequailridge.org
SUMMARY:Annual Neighborhood Garage Sale
DESCRIPTION:
URL:https://www.bluequailridge.org/event/annual-neighborhood-garage-sale/
CATEGORIES:General
END:VEVENT
BEGIN:VEVENT
DTSTART;TZID=America/Chicago:20250522T173000
DTEND;TZID=America/Chicago:20250522T190000
DTSTAMP:20260423T124043
CREATED:20250425T153112Z
LAST-MODIFIED:20250425T153137Z
UID:2404-1747935000-1747940400@www.bluequailridge.org
SUMMARY:Pool Pass Pickup
DESCRIPTION:
URL:https://www.bluequailridge.org/event/pool-pass-pickup-5-22/
LOCATION:Pool
END:VEVENT
BEGIN:VEVENT
DTSTART;TZID=America/Chicago:20250518T130000
DTEND;TZID=America/Chicago:20250518T150000
DTSTAMP:20260423T124043
CREATED:20250514T154711Z
LAST-MODIFIED:20250514T154749Z
UID:2417-1747573200-1747580400@www.bluequailridge.org
SUMMARY:Neighborhood Picnic
DESCRIPTION:CATERED BY FREDDY’S FROZEN CUSTARD \nCome meet your neighbors and enjoy a meal + ice cream!
URL:https://www.bluequailridge.org/event/neighborhood-picnic-2/
END:VEVENT
BEGIN:VEVENT
DTSTART;TZID=America/Chicago:20250518T130000
DTEND;TZID=America/Chicago:20250518T150000
DTSTAMP:20260423T124043
CREATED:20250425T152955Z
LAST-MODIFIED:20250425T152955Z
UID:2402-1747573200-1747580400@www.bluequailridge.org
SUMMARY:Annual Neighborhood Picnic with Freddy’s Frozen Custard
DESCRIPTION:
URL:https://www.bluequailridge.org/event/annual-neighborhood-picnic-with-freddys-frozen-custard/
END:VEVENT
BEGIN:VEVENT
DTSTART;TZID=America/Chicago:20250517T130000
DTEND;TZID=America/Chicago:20250517T150000
DTSTAMP:20260423T124043
CREATED:20250425T152844Z
LAST-MODIFIED:20250425T152916Z
UID:2400-1747486800-1747494000@www.bluequailridge.org
SUMMARY:Pool Pass Pickup
DESCRIPTION:
URL:https://www.bluequailridge.org/event/pool-pass-pickup-5-17/
END:VEVENT
BEGIN:VEVENT
DTSTART;TZID=America/Chicago:20250510T130000
DTEND;TZID=America/Chicago:20250510T150000
DTSTAMP:20260423T124043
CREATED:20250425T152815Z
LAST-MODIFIED:20250425T152815Z
UID:2398-1746882000-1746889200@www.bluequailridge.org
SUMMARY:Pool Pass Pickup
DESCRIPTION:
URL:https://www.bluequailridge.org/event/pool-pass-pickup-5-10/
LOCATION:Pool
CATEGORIES:General
END:VEVENT
BEGIN:VEVENT
DTSTART;TZID=America/Chicago:20250503T160000
DTEND;TZID=America/Chicago:20250503T180000
DTSTAMP:20260423T124043
CREATED:20250425T152514Z
LAST-MODIFIED:20250425T152636Z
UID:2396-1746288000-1746295200@www.bluequailridge.org
SUMMARY:Private Pavilion Reservation
DESCRIPTION:Gonzales
URL:https://www.bluequailridge.org/event/private-pavilion-reservation/
LOCATION:Pavilion
CATEGORIES:Pavilion Reserved
END:VEVENT
BEGIN:VEVENT
DTSTART;TZID=America/Chicago:20250426T080000
DTEND;TZID=America/Chicago:20250426T170000
DTSTAMP:20260423T124043
CREATED:20250425T152304Z
LAST-MODIFIED:20250425T152304Z
UID:2394-1745654400-1745686800@www.bluequailridge.org
SUMMARY:Private Pavillion Reservation
DESCRIPTION:
URL:https://www.bluequailridge.org/event/private-pavillion-reservation/
LOCATION:Pavilion
CATEGORIES:Pavilion Reserved
END:VEVENT
BEGIN:VEVENT
DTSTART;VALUE=DATE:20250401
DTEND;VALUE=DATE:20250402
DTSTAMP:20260423T124043
CREATED:20250425T152041Z
LAST-MODIFIED:20250425T152215Z
UID:2391-1743465600-1743551999@www.bluequailridge.org
SUMMARY:Late Fee Applied for 2025 Dues
DESCRIPTION:
URL:https://www.bluequailridge.org/event/late-fee-applied-for-2025-dues/
CATEGORIES:General
END:VEVENT
BEGIN:VEVENT
DTSTART;TZID=America/Chicago:20240721T090000
DTEND;TZID=America/Chicago:20240721T130000
DTSTAMP:20260423T124043
CREATED:20240612T163840Z
LAST-MODIFIED:20240612T163852Z
UID:2304-1721552400-1721566800@www.bluequailridge.org
SUMMARY:Pool/Pavilion Reservation
DESCRIPTION:Sunday\, July 21st 9am-1pm Massie Private Reservation
URL:https://www.bluequailridge.org/event/pool-pavilion-reservation-2024-07-21/
LOCATION:Pool and Pavilion
CATEGORIES:Pavilion Reserved,Pool Reserved
END:VEVENT
BEGIN:VEVENT
DTSTART;VALUE=DATE:20240704
DTEND;VALUE=DATE:20240705
DTSTAMP:20260423T124043
CREATED:20240531T194120Z
LAST-MODIFIED:20240701T182756Z
UID:2300-1720051200-1720137599@www.bluequailridge.org
SUMMARY:Community 4th of July Parade
DESCRIPTION:Community 4th of July Parade\, time TBD
URL:https://www.bluequailridge.org/event/community-4th-of-july-parade/
CATEGORIES:General
ATTACH;FMTTYPE=image/jpeg:https://www.bluequailridge.org/wp-content/uploads/2024/05/BQR-4th-of-July-2024.jpeg
END:VEVENT
BEGIN:VEVENT
DTSTART;TZID=America/Chicago:20240629T200000
DTEND;TZID=America/Chicago:20240629T220000
DTSTAMP:20260423T124043
CREATED:20240625T152302Z
LAST-MODIFIED:20240625T152302Z
UID:2320-1719691200-1719698400@www.bluequailridge.org
SUMMARY:Dive-In Movie Night — Night at the Museum
DESCRIPTION:Please join us for our Dive-In Movie Night this Saturday June 29th at the BQR Pool from 8-10pm! Night at the Museum will be playing! We’ll have a little treasure hunt prior to the movie starting as well as popsicles and popcorn!
URL:https://www.bluequailridge.org/event/dive-in-movie-night-night-at-the-museum/
LOCATION:Pool
CATEGORIES:General,Pool Reserved
ATTACH;FMTTYPE=image/jpeg:https://www.bluequailridge.org/wp-content/uploads/2024/06/BQR-Movie-Night.jpeg
END:VEVENT
BEGIN:VEVENT
DTSTART;TZID=America/Chicago:20240629T200000
DTEND;TZID=America/Chicago:20240629T220000
DTSTAMP:20260423T124043
CREATED:20240531T193927Z
LAST-MODIFIED:20240531T194031Z
UID:2298-1719691200-1719698400@www.bluequailridge.org
SUMMARY:Community Pool Reservation
DESCRIPTION:June 29th – Community Pool Reservation\, 8-10pm
URL:https://www.bluequailridge.org/event/community-pool-reservation/
LOCATION:Pool
CATEGORIES:Pool Reserved
END:VEVENT
BEGIN:VEVENT
DTSTART;TZID=America/Chicago:20240628T200000
DTEND;TZID=America/Chicago:20240628T220000
DTSTAMP:20260423T124043
CREATED:20240531T193744Z
LAST-MODIFIED:20240531T193811Z
UID:2296-1719604800-1719612000@www.bluequailridge.org
SUMMARY:Pool Reservation
DESCRIPTION:June 28th – Gonzalez Pool Reservation\, 8-10pm
URL:https://www.bluequailridge.org/event/pool-reservation-2024-06-28/
LOCATION:Pool
CATEGORIES:Pool Reserved
END:VEVENT
BEGIN:VEVENT
DTSTART;VALUE=DATE:20240624
DTEND;VALUE=DATE:20240627
DTSTAMP:20260423T124043
CREATED:20240621T210756Z
LAST-MODIFIED:20240621T210756Z
UID:2307-1719187200-1719446399@www.bluequailridge.org
SUMMARY:Pool Closed for Repairs
DESCRIPTION:To complete an urgent repair to the pool’s plaster floor\, the repair company will be draining the pool this upcoming Sunday (6/23) after closing for the night. We anticipate that it will be repaired and refilled either Wednesday (6/26) or Thursday (6/27) following. Please follow the community Facebook group for updates. We appreciate everyone’s patience and understanding!
URL:https://www.bluequailridge.org/event/pool-closed-for-repairs/
LOCATION:Pool
CATEGORIES:Pool Reserved
END:VEVENT
BEGIN:VEVENT
DTSTART;VALUE=DATE:20240607
DTEND;VALUE=DATE:20240610
DTSTAMP:20260423T124043
CREATED:20240531T193552Z
LAST-MODIFIED:20240531T193552Z
UID:2294-1717718400-1717977599@www.bluequailridge.org
SUMMARY:Neighborhood Garage Sale Weekend
DESCRIPTION:June 7\, 8\, 9th – Neighborhood Garage Sale Weekend
URL:https://www.bluequailridge.org/event/neighborhood-garage-sale-weekend/
CATEGORIES:General
END:VEVENT
BEGIN:VEVENT
DTSTART;TZID=America/Chicago:20240601T200000
DTEND;TZID=America/Chicago:20240601T220000
DTSTAMP:20260423T124043
CREATED:20240531T193250Z
LAST-MODIFIED:20240531T193345Z
UID:2290-1717272000-1717279200@www.bluequailridge.org
SUMMARY:Pool Reservation
DESCRIPTION:6/1 Gonzalez Pool Reservation\, 8-10pm
URL:https://www.bluequailridge.org/event/pool-reservation-2024-06-01/
LOCATION:Pool
CATEGORIES:Pool Reserved
END:VEVENT
BEGIN:VEVENT
DTSTART;TZID=America/Chicago:20240601T130000
DTEND;TZID=America/Chicago:20240601T150000
DTSTAMP:20260423T124043
CREATED:20240531T193502Z
LAST-MODIFIED:20240531T193502Z
UID:2292-1717246800-1717254000@www.bluequailridge.org
SUMMARY:Neighborhood Picnic
DESCRIPTION:June 1st – Neighborhood Picnic\, 1-3pm
URL:https://www.bluequailridge.org/event/neighborhood-picnic/
CATEGORIES:General
END:VEVENT
BEGIN:VEVENT
DTSTART;TZID=America/Chicago:20230901T110000
DTEND;TZID=America/Chicago:20230901T130000
DTSTAMP:20260423T124043
CREATED:20230805T032309Z
LAST-MODIFIED:20230805T032309Z
UID:2181-1693566000-1693573200@www.bluequailridge.org
SUMMARY:Adult Swim Private Pay
DESCRIPTION:
URL:https://www.bluequailridge.org/event/adult-swim-private-pay-5/
CATEGORIES:Pool Reserved
END:VEVENT
BEGIN:VEVENT
DTSTART;TZID=America/Chicago:20230829T110000
DTEND;TZID=America/Chicago:20230829T130000
DTSTAMP:20260423T124043
CREATED:20230805T032128Z
LAST-MODIFIED:20230805T032128Z
UID:2179-1693306800-1693314000@www.bluequailridge.org
SUMMARY:Adult Swim Private Pay
DESCRIPTION:
URL:https://www.bluequailridge.org/event/adult-swim-private-pay-4/
CATEGORIES:Pool Reserved
END:VEVENT
BEGIN:VEVENT
DTSTART;TZID=America/Chicago:20230826T200000
DTEND;TZID=America/Chicago:20230826T220000
DTSTAMP:20260423T124043
CREATED:20230721T232902Z
LAST-MODIFIED:20230721T232902Z
UID:2133-1693080000-1693087200@www.bluequailridge.org
SUMMARY:Amous Pool Reservation
DESCRIPTION:
URL:https://www.bluequailridge.org/event/amous-pool-reservation/
CATEGORIES:Pool Reserved
END:VEVENT
BEGIN:VEVENT
DTSTART;TZID=America/Chicago:20230825T200000
DTEND;TZID=America/Chicago:20230825T220000
DTSTAMP:20260423T124043
CREATED:20230807T141920Z
LAST-MODIFIED:20230807T141920Z
UID:2186-1692993600-1693000800@www.bluequailridge.org
SUMMARY:Kerschen Pool Reservation
DESCRIPTION:
URL:https://www.bluequailridge.org/event/kerschen-pool-reservation/
CATEGORIES:Pool Reserved
END:VEVENT
BEGIN:VEVENT
DTSTART;TZID=America/Chicago:20230825T110000
DTEND;TZID=America/Chicago:20230825T130000
DTSTAMP:20260423T124043
CREATED:20230805T031741Z
LAST-MODIFIED:20230805T031741Z
UID:2177-1692961200-1692968400@www.bluequailridge.org
SUMMARY:Adult Swim Private Pay
DESCRIPTION:
URL:https://www.bluequailridge.org/event/adult-swim-private-pay-3/
CATEGORIES:Pool Reserved
END:VEVENT
BEGIN:VEVENT
DTSTART;TZID=America/Chicago:20230822T110000
DTEND;TZID=America/Chicago:20230822T130000
DTSTAMP:20260423T124043
CREATED:20230803T203849Z
LAST-MODIFIED:20230803T203849Z
UID:2171-1692702000-1692709200@www.bluequailridge.org
SUMMARY:Adult Swim Private Pay
DESCRIPTION: 
URL:https://www.bluequailridge.org/event/adult-swim-private-pay-2/
CATEGORIES:Pool Reserved
END:VEVENT
BEGIN:VEVENT
DTSTART;TZID=America/Chicago:20230819T200000
DTEND;TZID=America/Chicago:20230819T220000
DTSTAMP:20260423T124043
CREATED:20230719T002404Z
LAST-MODIFIED:20230719T003812Z
UID:2129-1692475200-1692482400@www.bluequailridge.org
SUMMARY:Schmitz Pool Reservation
DESCRIPTION:
URL:https://www.bluequailridge.org/event/schmitz-pool-reservation-2/
CATEGORIES:Pool Reserved
END:VEVENT
BEGIN:VEVENT
DTSTART;TZID=America/Chicago:20230818T110000
DTEND;TZID=America/Chicago:20230818T130000
DTSTAMP:20260423T124043
CREATED:20230803T203315Z
LAST-MODIFIED:20230803T203718Z
UID:2169-1692356400-1692363600@www.bluequailridge.org
SUMMARY:Adult Swim Private Pay
DESCRIPTION:
URL:https://www.bluequailridge.org/event/adult-swim-private-pay/
CATEGORIES:Pool Reserved
END:VEVENT
BEGIN:VEVENT
DTSTART;TZID=America/Chicago:20230812T200000
DTEND;TZID=America/Chicago:20230812T220000
DTSTAMP:20260423T124043
CREATED:20230805T184150Z
LAST-MODIFIED:20230805T184150Z
UID:2183-1691870400-1691877600@www.bluequailridge.org
SUMMARY:Hobbs Pool Reservation
DESCRIPTION:
URL:https://www.bluequailridge.org/event/hobbs-pool-reservation/
CATEGORIES:Pool Reserved
END:VEVENT
BEGIN:VEVENT
DTSTART;TZID=America/Chicago:20230728T200000
DTEND;TZID=America/Chicago:20230728T220000
DTSTAMP:20260423T124043
CREATED:20230703T194017Z
LAST-MODIFIED:20230707T180201Z
UID:2113-1690574400-1690581600@www.bluequailridge.org
SUMMARY:Webb/ Hudgens AS Pool Reservation
DESCRIPTION:
URL:https://www.bluequailridge.org/event/pool-reserved-2/
CATEGORIES:Pool Reserved
END:VEVENT
BEGIN:VEVENT
DTSTART;TZID=America/Chicago:20230726T200000
DTEND;TZID=America/Chicago:20230726T223000
DTSTAMP:20260423T124043
CREATED:20230723T154127Z
LAST-MODIFIED:20230723T155141Z
UID:2135-1690401600-1690410600@www.bluequailridge.org
SUMMARY:Dive-In Movie Night
DESCRIPTION:
URL:https://www.bluequailridge.org/event/dive-in-movie-night/
END:VEVENT
END:VCALENDAR