BEGIN:VCALENDAR
VERSION:2.0
PRODID:-//Blue Quail Ridge Homeowners Association - ECPv6.15.20//NONSGML v1.0//EN
CALSCALE:GREGORIAN
METHOD:PUBLISH
X-ORIGINAL-URL:https://www.bluequailridge.org
X-WR-CALDESC:Events for Blue Quail Ridge Homeowners Association
REFRESH-INTERVAL;VALUE=DURATION:PT1H
X-Robots-Tag:noindex
X-PUBLISHED-TTL:PT1H
BEGIN:VTIMEZONE
TZID:America/Chicago
BEGIN:DAYLIGHT
TZOFFSETFROM:-0600
TZOFFSETTO:-0500
TZNAME:CDT
DTSTART:20190310T080000
END:DAYLIGHT
BEGIN:STANDARD
TZOFFSETFROM:-0500
TZOFFSETTO:-0600
TZNAME:CST
DTSTART:20191103T070000
END:STANDARD
BEGIN:DAYLIGHT
TZOFFSETFROM:-0600
TZOFFSETTO:-0500
TZNAME:CDT
DTSTART:20200308T080000
END:DAYLIGHT
BEGIN:STANDARD
TZOFFSETFROM:-0500
TZOFFSETTO:-0600
TZNAME:CST
DTSTART:20201101T070000
END:STANDARD
BEGIN:DAYLIGHT
TZOFFSETFROM:-0600
TZOFFSETTO:-0500
TZNAME:CDT
DTSTART:20210314T080000
END:DAYLIGHT
BEGIN:STANDARD
TZOFFSETFROM:-0500
TZOFFSETTO:-0600
TZNAME:CST
DTSTART:20211107T070000
END:STANDARD
BEGIN:DAYLIGHT
TZOFFSETFROM:-0600
TZOFFSETTO:-0500
TZNAME:CDT
DTSTART:20220313T080000
END:DAYLIGHT
BEGIN:STANDARD
TZOFFSETFROM:-0500
TZOFFSETTO:-0600
TZNAME:CST
DTSTART:20221106T070000
END:STANDARD
BEGIN:DAYLIGHT
TZOFFSETFROM:-0600
TZOFFSETTO:-0500
TZNAME:CDT
DTSTART:20230312T080000
END:DAYLIGHT
BEGIN:STANDARD
TZOFFSETFROM:-0500
TZOFFSETTO:-0600
TZNAME:CST
DTSTART:20231105T070000
END:STANDARD
END:VTIMEZONE
BEGIN:VEVENT
DTSTART;TZID=America/Chicago:20220717T100000
DTEND;TZID=America/Chicago:20220717T130000
DTSTAMP:20260423T191212
CREATED:20220503T155520Z
LAST-MODIFIED:20220503T155640Z
UID:1464-1658052000-1658062800@www.bluequailridge.org
SUMMARY:Pool Reservation
DESCRIPTION:Massie
URL:https://www.bluequailridge.org/event/pool-reservation-2022-07-17/
LOCATION:Pool
CATEGORIES:Pool Reserved
END:VEVENT
BEGIN:VEVENT
DTSTART;TZID=America/Chicago:20220715T200000
DTEND;TZID=America/Chicago:20220715T220000
DTSTAMP:20260423T191212
CREATED:20220711T191401Z
LAST-MODIFIED:20220711T192529Z
UID:1534-1657915200-1657922400@www.bluequailridge.org
SUMMARY:Pool Reservation
DESCRIPTION:Romo
URL:https://www.bluequailridge.org/event/pool-reservation-2022-07-15/
LOCATION:Pool
CATEGORIES:Pool Reserved
END:VEVENT
BEGIN:VEVENT
DTSTART;TZID=America/Chicago:20220714T200000
DTEND;TZID=America/Chicago:20220714T220000
DTSTAMP:20260423T191212
CREATED:20220630T153327Z
LAST-MODIFIED:20220630T154123Z
UID:1519-1657828800-1657836000@www.bluequailridge.org
SUMMARY:Pool Reservation
DESCRIPTION:Hobbs
URL:https://www.bluequailridge.org/event/pool-reservation-2022-07-14/
LOCATION:Pool
CATEGORIES:Pool Reserved
END:VEVENT
BEGIN:VEVENT
DTSTART;TZID=America/Chicago:20220713T100000
DTEND;TZID=America/Chicago:20220713T120000
DTSTAMP:20260423T191212
CREATED:20220711T193055Z
LAST-MODIFIED:20220711T193059Z
UID:1540-1657706400-1657713600@www.bluequailridge.org
SUMMARY:Pool Reservation
DESCRIPTION:Compton
URL:https://www.bluequailridge.org/event/pool-reservation-2022-07-13/
LOCATION:Pool
CATEGORIES:Pool Reserved
END:VEVENT
BEGIN:VEVENT
DTSTART;TZID=America/Chicago:20220709T200000
DTEND;TZID=America/Chicago:20220709T220000
DTSTAMP:20260423T191212
CREATED:20220613T180654Z
LAST-MODIFIED:20220613T180758Z
UID:1511-1657396800-1657404000@www.bluequailridge.org
SUMMARY:Pool Reservation
DESCRIPTION:Amous
URL:https://www.bluequailridge.org/event/pool-reservation-2022-07-09-2/
LOCATION:Pool
CATEGORIES:Pool Reserved
END:VEVENT
BEGIN:VEVENT
DTSTART;TZID=America/Chicago:20220709T090000
DTEND;TZID=America/Chicago:20220709T120000
DTSTAMP:20260423T191212
CREATED:20220523T145938Z
LAST-MODIFIED:20220523T145938Z
UID:1488-1657357200-1657368000@www.bluequailridge.org
SUMMARY:Pool Reservation
DESCRIPTION:Romo
URL:https://www.bluequailridge.org/event/pool-reservation-2022-07-09/
LOCATION:Pool
CATEGORIES:Pool Reserved
END:VEVENT
BEGIN:VEVENT
DTSTART;TZID=America/Chicago:20220702T200000
DTEND;TZID=America/Chicago:20220702T220000
DTSTAMP:20260423T191212
CREATED:20220613T175956Z
LAST-MODIFIED:20220613T180553Z
UID:1509-1656792000-1656799200@www.bluequailridge.org
SUMMARY:Pool Reservation
DESCRIPTION:Daugherty
URL:https://www.bluequailridge.org/event/pool-reservation-2022-07-02/
LOCATION:Pool
CATEGORIES:Pool Reserved
END:VEVENT
BEGIN:VEVENT
DTSTART;TZID=America/Chicago:20220625T100000
DTEND;TZID=America/Chicago:20220625T120000
DTSTAMP:20260423T191212
CREATED:20220503T154235Z
LAST-MODIFIED:20220503T155416Z
UID:1461-1656151200-1656158400@www.bluequailridge.org
SUMMARY:Pavilion & Pool Reservation
DESCRIPTION:Morris
URL:https://www.bluequailridge.org/event/pavilion-reservation-2022-06-25/
LOCATION:Pool and Pavilion
CATEGORIES:Pavilion Reserved,Pool Reserved
END:VEVENT
BEGIN:VEVENT
DTSTART;TZID=America/Chicago:20220618T200000
DTEND;TZID=America/Chicago:20220618T220000
DTSTAMP:20260423T191212
CREATED:20220517T143930Z
LAST-MODIFIED:20220517T143952Z
UID:1480-1655582400-1655589600@www.bluequailridge.org
SUMMARY:Pool Reservation
DESCRIPTION:Pauley
URL:https://www.bluequailridge.org/event/pool-reservation-2022-06-18/
LOCATION:Pool
CATEGORIES:Pool Reserved
END:VEVENT
BEGIN:VEVENT
DTSTART;TZID=America/Chicago:20220612T110000
DTEND;TZID=America/Chicago:20220612T130000
DTSTAMP:20260423T191212
CREATED:20220531T151552Z
LAST-MODIFIED:20220531T151816Z
UID:1495-1655031600-1655038800@www.bluequailridge.org
SUMMARY:Pool & Pavilion Reservation
DESCRIPTION:Torres
URL:https://www.bluequailridge.org/event/pool-reservation-2022-06-12/
LOCATION:Pool and Pavilion
CATEGORIES:Pavilion Reserved,Pool Reserved
END:VEVENT
BEGIN:VEVENT
DTSTART;TZID=America/Chicago:20210829T100000
DTEND;TZID=America/Chicago:20210829T130000
DTSTAMP:20260423T191212
CREATED:20210702T181154Z
LAST-MODIFIED:20210702T181215Z
UID:1355-1630231200-1630242000@www.bluequailridge.org
SUMMARY:Pool Reservation
DESCRIPTION:Whaley
URL:https://www.bluequailridge.org/event/pool-reservation-2021-08-09/
LOCATION:Pool
CATEGORIES:Pool Reserved
END:VEVENT
BEGIN:VEVENT
DTSTART;TZID=America/Chicago:20210828T100000
DTEND;TZID=America/Chicago:20210828T120000
DTSTAMP:20260423T191212
CREATED:20210823T200648Z
LAST-MODIFIED:20210823T202957Z
UID:1408-1630144800-1630152000@www.bluequailridge.org
SUMMARY:Pool Reservation
DESCRIPTION:Williamson
URL:https://www.bluequailridge.org/event/pool-reservation-2021-08-28/
LOCATION:Pool
CATEGORIES:Pool Reserved
END:VEVENT
BEGIN:VEVENT
DTSTART;TZID=America/Chicago:20210821T200000
DTEND;TZID=America/Chicago:20210821T220000
DTSTAMP:20260423T191212
CREATED:20210614T145749Z
LAST-MODIFIED:20210706T142319Z
UID:1306-1629576000-1629583200@www.bluequailridge.org
SUMMARY:Pool Reservation
DESCRIPTION:Morris
URL:https://www.bluequailridge.org/event/pool-reservation-2021-08-21/
LOCATION:Pool
CATEGORIES:Pool Reserved
END:VEVENT
BEGIN:VEVENT
DTSTART;TZID=America/Chicago:20210814T200000
DTEND;TZID=America/Chicago:20210814T220000
DTSTAMP:20260423T191212
CREATED:20210513T195400Z
LAST-MODIFIED:20210513T200900Z
UID:1270-1628971200-1628978400@www.bluequailridge.org
SUMMARY:Pool Reservation
DESCRIPTION:Frederick
URL:https://www.bluequailridge.org/event/pool-reservation-2021-08-14/
LOCATION:Pool
CATEGORIES:Pool Reserved
END:VEVENT
BEGIN:VEVENT
DTSTART;TZID=America/Chicago:20210807T200000
DTEND;TZID=America/Chicago:20210807T220000
DTSTAMP:20260423T191212
CREATED:20210513T202228Z
LAST-MODIFIED:20210513T202630Z
UID:1278-1628366400-1628373600@www.bluequailridge.org
SUMMARY:Pool Reservation
DESCRIPTION:Frederick
URL:https://www.bluequailridge.org/event/pool-reservation-2021-08-07/
LOCATION:Pool
CATEGORIES:Pool Reserved
END:VEVENT
BEGIN:VEVENT
DTSTART;TZID=America/Chicago:20210807T100000
DTEND;TZID=America/Chicago:20210807T120000
DTSTAMP:20260423T191212
CREATED:20210720T144501Z
LAST-MODIFIED:20210720T144530Z
UID:1385-1628330400-1628337600@www.bluequailridge.org
SUMMARY:Pool Reservation
DESCRIPTION:Hill
URL:https://www.bluequailridge.org/event/pool-reservation-2021-08-07-2/
LOCATION:Pool
CATEGORIES:Pool Reserved
END:VEVENT
BEGIN:VEVENT
DTSTART;TZID=America/Chicago:20210731T200000
DTEND;TZID=America/Chicago:20210731T230000
DTSTAMP:20260423T191212
CREATED:20210712T152514Z
LAST-MODIFIED:20210712T152546Z
UID:1370-1627761600-1627772400@www.bluequailridge.org
SUMMARY:Pool Reservation
DESCRIPTION:Bross
URL:https://www.bluequailridge.org/event/pool-reservation-2021-07-31/
LOCATION:Pool
CATEGORIES:Pool Reserved
END:VEVENT
BEGIN:VEVENT
DTSTART;TZID=America/Chicago:20210723T200000
DTEND;TZID=America/Chicago:20210723T220000
DTSTAMP:20260423T191212
CREATED:20210616T212607Z
LAST-MODIFIED:20210616T212626Z
UID:1339-1627070400-1627077600@www.bluequailridge.org
SUMMARY:Pool Reservation
DESCRIPTION:Pipkins
URL:https://www.bluequailridge.org/event/pool-reservation-2021-07-23/
LOCATION:Pool
CATEGORIES:Pool Reserved
END:VEVENT
BEGIN:VEVENT
DTSTART;TZID=America/Chicago:20210721T200000
DTEND;TZID=America/Chicago:20210721T220000
DTSTAMP:20260423T191212
CREATED:20210629T143444Z
LAST-MODIFIED:20210629T144451Z
UID:1343-1626897600-1626904800@www.bluequailridge.org
SUMMARY:Pool Reservation
DESCRIPTION:Goracke \n 
URL:https://www.bluequailridge.org/event/pool-reservation-2021-07-21/
LOCATION:Pool
CATEGORIES:Pool Reserved
END:VEVENT
BEGIN:VEVENT
DTSTART;TZID=America/Chicago:20210720T100000
DTEND;TZID=America/Chicago:20210720T120000
DTSTAMP:20260423T191212
CREATED:20210713T161427Z
LAST-MODIFIED:20210713T161713Z
UID:1374-1626775200-1626782400@www.bluequailridge.org
SUMMARY:Pool Reservation
DESCRIPTION:VanderHamm
URL:https://www.bluequailridge.org/event/pool-reservation-2021-07-20/
LOCATION:Pool
CATEGORIES:Pool Reserved
END:VEVENT
BEGIN:VEVENT
DTSTART;TZID=America/Chicago:20210717T200000
DTEND;TZID=America/Chicago:20210717T220000
DTSTAMP:20260423T191212
CREATED:20210712T152948Z
LAST-MODIFIED:20210712T153008Z
UID:1372-1626552000-1626559200@www.bluequailridge.org
SUMMARY:Pool Reservation
DESCRIPTION:Lanier-Smith
URL:https://www.bluequailridge.org/event/pool-reservation-2021-07-17/
LOCATION:Pool
CATEGORIES:Pool Reserved
END:VEVENT
BEGIN:VEVENT
DTSTART;TZID=America/Chicago:20210703T200000
DTEND;TZID=America/Chicago:20210703T220000
DTSTAMP:20260423T191212
CREATED:20210614T150917Z
LAST-MODIFIED:20210614T150939Z
UID:1308-1625342400-1625349600@www.bluequailridge.org
SUMMARY:Pool Reservation
DESCRIPTION:Hobbs
URL:https://www.bluequailridge.org/event/pool-reservation-2021-07-03/
LOCATION:Pool
CATEGORIES:Pool Reserved
END:VEVENT
BEGIN:VEVENT
DTSTART;TZID=America/Chicago:20210619T200000
DTEND;TZID=America/Chicago:20210619T223000
DTSTAMP:20260423T191212
CREATED:20210616T212353Z
LAST-MODIFIED:20210616T212428Z
UID:1336-1624132800-1624141800@www.bluequailridge.org
SUMMARY:Drive-In Movie Night at the BQR Pool
DESCRIPTION:
URL:https://www.bluequailridge.org/event/drive-in-movie-night-at-the-bqr-pool-2021-06-19/
LOCATION:Pool
CATEGORIES:General,Pool Reserved
ATTACH;FMTTYPE=image/jpeg:https://www.bluequailridge.org/wp-content/uploads/2021/06/bqr-movie-night-june-19.jpg
END:VEVENT
BEGIN:VEVENT
DTSTART;TZID=America/Chicago:20210618T200000
DTEND;TZID=America/Chicago:20210618T220000
DTSTAMP:20260423T191212
CREATED:20210428T145830Z
LAST-MODIFIED:20210428T145956Z
UID:1262-1624046400-1624053600@www.bluequailridge.org
SUMMARY:Pool Reservation
DESCRIPTION:Ricketts
URL:https://www.bluequailridge.org/event/pool-reservation-2021-06-18/
LOCATION:Pool
CATEGORIES:Pool Reserved
END:VEVENT
BEGIN:VEVENT
DTSTART;TZID=America/Chicago:20210611T200000
DTEND;TZID=America/Chicago:20210611T220000
DTSTAMP:20260423T191212
CREATED:20210609T153013Z
LAST-MODIFIED:20210609T153111Z
UID:1298-1623441600-1623448800@www.bluequailridge.org
SUMMARY:Pool Reservation
DESCRIPTION:Rahill
URL:https://www.bluequailridge.org/event/pool-reservation-2021-06-11/
LOCATION:Pool
CATEGORIES:Pool Reserved
END:VEVENT
BEGIN:VEVENT
DTSTART;TZID=America/Chicago:20210605T100000
DTEND;TZID=America/Chicago:20210605T113000
DTSTAMP:20260423T191212
CREATED:20210505T203934Z
LAST-MODIFIED:20210505T203958Z
UID:1265-1622887200-1622892600@www.bluequailridge.org
SUMMARY:Pool Reservation
DESCRIPTION:Brakhage
URL:https://www.bluequailridge.org/event/pool-reservation-2021-06-05/
LOCATION:Pool
CATEGORIES:Pool Reserved
END:VEVENT
BEGIN:VEVENT
DTSTART;TZID=America/Chicago:20210601T080000
DTEND;TZID=America/Chicago:20210601T170000
DTSTAMP:20260423T191212
CREATED:20210601T153532Z
LAST-MODIFIED:20210601T153532Z
UID:1292-1622534400-1622566800@www.bluequailridge.org
SUMMARY:Drive-In Movie Night at the BQR Pool
DESCRIPTION:
URL:https://www.bluequailridge.org/event/drive-in-movie-night-at-the-bqr-pool/
LOCATION:Pool
CATEGORIES:Pool Reserved
END:VEVENT
BEGIN:VEVENT
DTSTART;TZID=America/Chicago:20200821T200000
DTEND;TZID=America/Chicago:20200821T223000
DTSTAMP:20260423T191212
CREATED:20200817T142138Z
LAST-MODIFIED:20200817T142721Z
UID:1152-1598040000-1598049000@www.bluequailridge.org
SUMMARY:BQR Movie Night
DESCRIPTION:Reserved by Jansen
URL:https://www.bluequailridge.org/event/bqr-hoa-movie-night/
LOCATION:Pool and Pavilion
CATEGORIES:Pool Reserved
ATTACH;FMTTYPE=image/jpeg:https://www.bluequailridge.org/wp-content/uploads/2020/08/movie-night-cars-3.jpg
END:VEVENT
BEGIN:VEVENT
DTSTART;TZID=America/Chicago:20200818T200000
DTEND;TZID=America/Chicago:20200818T220000
DTSTAMP:20260423T191212
CREATED:20200817T142453Z
LAST-MODIFIED:20200817T142507Z
UID:1155-1597780800-1597788000@www.bluequailridge.org
SUMMARY:Pool Reservation
DESCRIPTION:Reserved by Whaley
URL:https://www.bluequailridge.org/event/pool-reservation-2020-08-18/
CATEGORIES:Pool Reserved
END:VEVENT
BEGIN:VEVENT
DTSTART;TZID=America/Chicago:20200814T200000
DTEND;TZID=America/Chicago:20200814T220000
DTSTAMP:20260423T191212
CREATED:20200810T145818Z
LAST-MODIFIED:20200810T150241Z
UID:1145-1597435200-1597442400@www.bluequailridge.org
SUMMARY:Pool Reservation
DESCRIPTION:Reserved by Sweat
URL:https://www.bluequailridge.org/event/pool-reservation-2020-08-14/
LOCATION:Pool
CATEGORIES:Pool Reserved
END:VEVENT
END:VCALENDAR