BEGIN:VCALENDAR
VERSION:2.0
PRODID:-//Blue Quail Ridge Homeowners Association - ECPv6.15.20//NONSGML v1.0//EN
CALSCALE:GREGORIAN
METHOD:PUBLISH
X-WR-CALNAME:Blue Quail Ridge Homeowners Association
X-ORIGINAL-URL:https://www.bluequailridge.org
X-WR-CALDESC:Events for Blue Quail Ridge Homeowners Association
REFRESH-INTERVAL;VALUE=DURATION:PT1H
X-Robots-Tag:noindex
X-PUBLISHED-TTL:PT1H
BEGIN:VTIMEZONE
TZID:America/Chicago
BEGIN:DAYLIGHT
TZOFFSETFROM:-0600
TZOFFSETTO:-0500
TZNAME:CDT
DTSTART:20220313T080000
END:DAYLIGHT
BEGIN:STANDARD
TZOFFSETFROM:-0500
TZOFFSETTO:-0600
TZNAME:CST
DTSTART:20221106T070000
END:STANDARD
BEGIN:DAYLIGHT
TZOFFSETFROM:-0600
TZOFFSETTO:-0500
TZNAME:CDT
DTSTART:20230312T080000
END:DAYLIGHT
BEGIN:STANDARD
TZOFFSETFROM:-0500
TZOFFSETTO:-0600
TZNAME:CST
DTSTART:20231105T070000
END:STANDARD
BEGIN:DAYLIGHT
TZOFFSETFROM:-0600
TZOFFSETTO:-0500
TZNAME:CDT
DTSTART:20240310T080000
END:DAYLIGHT
BEGIN:STANDARD
TZOFFSETFROM:-0500
TZOFFSETTO:-0600
TZNAME:CST
DTSTART:20241103T070000
END:STANDARD
END:VTIMEZONE
BEGIN:VEVENT
DTSTART;TZID=America/Chicago:20230722T170000
DTEND;TZID=America/Chicago:20230722T200000
DTSTAMP:20260425T212804
CREATED:20230611T030727Z
LAST-MODIFIED:20230707T175925Z
UID:2072-1690045200-1690056000@www.bluequailridge.org
SUMMARY:Nguyen Pavilion Reservation
DESCRIPTION:
URL:https://www.bluequailridge.org/event/pavilion-reservation-15/
CATEGORIES:Pavilion Reserved
END:VEVENT
BEGIN:VEVENT
DTSTART;TZID=America/Chicago:20230723T090000
DTEND;TZID=America/Chicago:20230723T130000
DTSTAMP:20260425T212804
CREATED:20230531T024242Z
LAST-MODIFIED:20230707T180014Z
UID:2016-1690102800-1690117200@www.bluequailridge.org
SUMMARY:Massie Pool & Pavilion Reservation
DESCRIPTION:
URL:https://www.bluequailridge.org/event/pool-pavilion-reservation-2/
CATEGORIES:Pavilion Reserved,Pool Reserved
END:VEVENT
END:VCALENDAR