BEGIN:VCALENDAR
VERSION:2.0
PRODID:-//Blue Quail Ridge Homeowners Association - ECPv6.15.20//NONSGML v1.0//EN
CALSCALE:GREGORIAN
METHOD:PUBLISH
X-ORIGINAL-URL:https://www.bluequailridge.org
X-WR-CALDESC:Events for Blue Quail Ridge Homeowners Association
REFRESH-INTERVAL;VALUE=DURATION:PT1H
X-Robots-Tag:noindex
X-PUBLISHED-TTL:PT1H
BEGIN:VTIMEZONE
TZID:America/Chicago
BEGIN:DAYLIGHT
TZOFFSETFROM:-0600
TZOFFSETTO:-0500
TZNAME:CDT
DTSTART:20200308T080000
END:DAYLIGHT
BEGIN:STANDARD
TZOFFSETFROM:-0500
TZOFFSETTO:-0600
TZNAME:CST
DTSTART:20201101T070000
END:STANDARD
BEGIN:DAYLIGHT
TZOFFSETFROM:-0600
TZOFFSETTO:-0500
TZNAME:CDT
DTSTART:20210314T080000
END:DAYLIGHT
BEGIN:STANDARD
TZOFFSETFROM:-0500
TZOFFSETTO:-0600
TZNAME:CST
DTSTART:20211107T070000
END:STANDARD
BEGIN:DAYLIGHT
TZOFFSETFROM:-0600
TZOFFSETTO:-0500
TZNAME:CDT
DTSTART:20220313T080000
END:DAYLIGHT
BEGIN:STANDARD
TZOFFSETFROM:-0500
TZOFFSETTO:-0600
TZNAME:CST
DTSTART:20221106T070000
END:STANDARD
BEGIN:DAYLIGHT
TZOFFSETFROM:-0600
TZOFFSETTO:-0500
TZNAME:CDT
DTSTART:20230312T080000
END:DAYLIGHT
BEGIN:STANDARD
TZOFFSETFROM:-0500
TZOFFSETTO:-0600
TZNAME:CST
DTSTART:20231105T070000
END:STANDARD
BEGIN:DAYLIGHT
TZOFFSETFROM:-0600
TZOFFSETTO:-0500
TZNAME:CDT
DTSTART:20240310T080000
END:DAYLIGHT
BEGIN:STANDARD
TZOFFSETFROM:-0500
TZOFFSETTO:-0600
TZNAME:CST
DTSTART:20241103T070000
END:STANDARD
BEGIN:DAYLIGHT
TZOFFSETFROM:-0600
TZOFFSETTO:-0500
TZNAME:CDT
DTSTART:20250309T080000
END:DAYLIGHT
BEGIN:STANDARD
TZOFFSETFROM:-0500
TZOFFSETTO:-0600
TZNAME:CST
DTSTART:20251102T070000
END:STANDARD
BEGIN:DAYLIGHT
TZOFFSETFROM:-0600
TZOFFSETTO:-0500
TZNAME:CDT
DTSTART:20260308T080000
END:DAYLIGHT
BEGIN:STANDARD
TZOFFSETFROM:-0500
TZOFFSETTO:-0600
TZNAME:CST
DTSTART:20261101T070000
END:STANDARD
END:VTIMEZONE
BEGIN:VEVENT
DTSTART;VALUE=DATE:20250606
DTEND;VALUE=DATE:20250609
DTSTAMP:20260423T172751
CREATED:20250425T153212Z
LAST-MODIFIED:20250425T153222Z
UID:2406-1749168000-1749427199@www.bluequailridge.org
SUMMARY:Annual Neighborhood Garage Sale
DESCRIPTION:
URL:https://www.bluequailridge.org/event/annual-neighborhood-garage-sale/
CATEGORIES:General
END:VEVENT
BEGIN:VEVENT
DTSTART;TZID=America/Chicago:20250510T130000
DTEND;TZID=America/Chicago:20250510T150000
DTSTAMP:20260423T172751
CREATED:20250425T152815Z
LAST-MODIFIED:20250425T152815Z
UID:2398-1746882000-1746889200@www.bluequailridge.org
SUMMARY:Pool Pass Pickup
DESCRIPTION:
URL:https://www.bluequailridge.org/event/pool-pass-pickup-5-10/
LOCATION:Pool
CATEGORIES:General
END:VEVENT
BEGIN:VEVENT
DTSTART;VALUE=DATE:20250401
DTEND;VALUE=DATE:20250402
DTSTAMP:20260423T172751
CREATED:20250425T152041Z
LAST-MODIFIED:20250425T152215Z
UID:2391-1743465600-1743551999@www.bluequailridge.org
SUMMARY:Late Fee Applied for 2025 Dues
DESCRIPTION:
URL:https://www.bluequailridge.org/event/late-fee-applied-for-2025-dues/
CATEGORIES:General
END:VEVENT
BEGIN:VEVENT
DTSTART;VALUE=DATE:20240704
DTEND;VALUE=DATE:20240705
DTSTAMP:20260423T172751
CREATED:20240531T194120Z
LAST-MODIFIED:20240701T182756Z
UID:2300-1720051200-1720137599@www.bluequailridge.org
SUMMARY:Community 4th of July Parade
DESCRIPTION:Community 4th of July Parade\, time TBD
URL:https://www.bluequailridge.org/event/community-4th-of-july-parade/
CATEGORIES:General
ATTACH;FMTTYPE=image/jpeg:https://www.bluequailridge.org/wp-content/uploads/2024/05/BQR-4th-of-July-2024.jpeg
END:VEVENT
BEGIN:VEVENT
DTSTART;TZID=America/Chicago:20240629T200000
DTEND;TZID=America/Chicago:20240629T220000
DTSTAMP:20260423T172751
CREATED:20240625T152302Z
LAST-MODIFIED:20240625T152302Z
UID:2320-1719691200-1719698400@www.bluequailridge.org
SUMMARY:Dive-In Movie Night — Night at the Museum
DESCRIPTION:Please join us for our Dive-In Movie Night this Saturday June 29th at the BQR Pool from 8-10pm! Night at the Museum will be playing! We’ll have a little treasure hunt prior to the movie starting as well as popsicles and popcorn!
URL:https://www.bluequailridge.org/event/dive-in-movie-night-night-at-the-museum/
LOCATION:Pool
CATEGORIES:General,Pool Reserved
ATTACH;FMTTYPE=image/jpeg:https://www.bluequailridge.org/wp-content/uploads/2024/06/BQR-Movie-Night.jpeg
END:VEVENT
BEGIN:VEVENT
DTSTART;VALUE=DATE:20240607
DTEND;VALUE=DATE:20240610
DTSTAMP:20260423T172751
CREATED:20240531T193552Z
LAST-MODIFIED:20240531T193552Z
UID:2294-1717718400-1717977599@www.bluequailridge.org
SUMMARY:Neighborhood Garage Sale Weekend
DESCRIPTION:June 7\, 8\, 9th – Neighborhood Garage Sale Weekend
URL:https://www.bluequailridge.org/event/neighborhood-garage-sale-weekend/
CATEGORIES:General
END:VEVENT
BEGIN:VEVENT
DTSTART;TZID=America/Chicago:20240601T130000
DTEND;TZID=America/Chicago:20240601T150000
DTSTAMP:20260423T172751
CREATED:20240531T193502Z
LAST-MODIFIED:20240531T193502Z
UID:2292-1717246800-1717254000@www.bluequailridge.org
SUMMARY:Neighborhood Picnic
DESCRIPTION:June 1st – Neighborhood Picnic\, 1-3pm
URL:https://www.bluequailridge.org/event/neighborhood-picnic/
CATEGORIES:General
END:VEVENT
BEGIN:VEVENT
DTSTART;TZID=America/Chicago:20230711T180000
DTEND;TZID=America/Chicago:20230711T180000
DTSTAMP:20260423T172751
CREATED:20230612T013422Z
LAST-MODIFIED:20230612T013422Z
UID:2077-1689098400-1689098400@www.bluequailridge.org
SUMMARY:Monthly Board Meeting
DESCRIPTION:Francis Tuttle Technology Center 150th and Portland
URL:https://www.bluequailridge.org/event/monthly-board-meeting-2/
CATEGORIES:General
END:VEVENT
BEGIN:VEVENT
DTSTART;TZID=America/Chicago:20230613T180000
DTEND;TZID=America/Chicago:20230613T180000
DTSTAMP:20260423T172751
CREATED:20230612T013145Z
LAST-MODIFIED:20230612T013740Z
UID:2075-1686679200-1686679200@www.bluequailridge.org
SUMMARY:Monthly Board Meeting
DESCRIPTION:Francis Tuttle Technology Center  150th & Portland
URL:https://www.bluequailridge.org/event/monthly-board-meeting/
CATEGORIES:General
END:VEVENT
BEGIN:VEVENT
DTSTART;VALUE=DATE:20230610
DTEND;VALUE=DATE:20230612
DTSTAMP:20260423T172751
CREATED:20230216T170806Z
LAST-MODIFIED:20230216T170859Z
UID:1696-1686355200-1686527999@www.bluequailridge.org
SUMMARY:Community Garage Sale
DESCRIPTION:Saturday\, June 10 & 11th:  COMMUNITY GARAGE SALE
URL:https://www.bluequailridge.org/event/community-garage-sale/
CATEGORIES:General
END:VEVENT
BEGIN:VEVENT
DTSTART;TZID=America/Chicago:20230603T130000
DTEND;TZID=America/Chicago:20230603T150000
DTSTAMP:20260423T172751
CREATED:20230216T170209Z
LAST-MODIFIED:20230216T170209Z
UID:1694-1685797200-1685804400@www.bluequailridge.org
SUMMARY:Annual Picnic at the Park
DESCRIPTION:Saturday\, June 3 from 1:00 to 3:00: ANNUAL PICNIC at the PARK
URL:https://www.bluequailridge.org/event/annual-picnic-at-the-park/
CATEGORIES:General
END:VEVENT
BEGIN:VEVENT
DTSTART;VALUE=DATE:20230603
DTEND;VALUE=DATE:20230604
DTSTAMP:20260423T172751
CREATED:20230604T000913Z
LAST-MODIFIED:20230604T024616Z
UID:2049-1685750400-1685836799@www.bluequailridge.org
SUMMARY:Pizza Party Picnic!!
DESCRIPTION:Blue Quail Ridge celebrated the first weekend of the summer with its annual picnic entitled the 5 P Party!  We showcased our refreshed Pavilion\, Playground\, Park\, and Pool while enjoying Pizza! 🍕  \n\nThe park was sprinkled with signs to welcome attendees while the pool was shimmering clean inviting everyone to jump right in!  The kids could hardly wait to test out the sparkling water in our newly resurfaced pool\, which opened at Noon!\n\nMeanwhile\, the Board invited attendees to enjoy pizza while engaging in pleasant conversations with neighbors. \n\n \n\nThank you to our helping hands: Janet Bell\, Kay Compton\, and Ray Fassbender for making sure everyone received the pizza\, cookie and drink of their choice 😃… all delivered with a cheerful smile! \nWe look forward to more fun in the sun as the summer progresses!
URL:https://www.bluequailridge.org/event/pizza-party-picnic/
CATEGORIES:General
END:VEVENT
BEGIN:VEVENT
DTSTART;TZID=America/Chicago:20230509T180000
DTEND;TZID=America/Chicago:20230509T190000
DTSTAMP:20260423T172751
CREATED:20230320T152733Z
LAST-MODIFIED:20230320T153025Z
UID:1760-1683655200-1683658800@www.bluequailridge.org
SUMMARY:Monthly Board Meeting
DESCRIPTION:Monthly Board Meeting on May 9 from 6:00 – 7:00 at Francis Tuttle Technology Center on 150th
URL:https://www.bluequailridge.org/event/monthly-board-meeting-2023-05/
LOCATION:Francis Tuttle Technology Center\, 3500 NW 150th St\, Oklahoma City\, OK\, 73134\, United States
CATEGORIES:General
END:VEVENT
BEGIN:VEVENT
DTSTART;TZID=America/Chicago:20230411T180000
DTEND;TZID=America/Chicago:20230411T190000
DTSTAMP:20260423T172751
CREATED:20230320T151527Z
LAST-MODIFIED:20230405T191226Z
UID:1758-1681236000-1681239600@www.bluequailridge.org
SUMMARY:Board Meeting April 11
DESCRIPTION:Board Meeting Rescheduled from April 11 to April 18\n6:00 pm – 7:00 pm\nFrancis Tuttle Technology Center\n150th and Portland
URL:https://www.bluequailridge.org/event/monthly-board-meeting-2023-04/
LOCATION:Francis Tuttle Technology Center\, 3500 NW 150th St\, Oklahoma City\, OK\, 73134\, United States
CATEGORIES:General
END:VEVENT
BEGIN:VEVENT
DTSTART;TZID=America/Chicago:20230314T180000
DTEND;TZID=America/Chicago:20230314T190000
DTSTAMP:20260423T172751
CREATED:20230123T164627Z
LAST-MODIFIED:20230123T164627Z
UID:1672-1678816800-1678820400@www.bluequailridge.org
SUMMARY:Board Meeting
DESCRIPTION:Board Meeting\nMarch 14 @ 6:00 pm -7:00 pm\nFrancis Tuttle Technology Center \n3500 NW 150th St.
URL:https://www.bluequailridge.org/event/board-meeting/
LOCATION:Francis Tuttle Technology Center\, 3500 NW 150th St\, Oklahoma City\, OK\, 73134\, United States
CATEGORIES:General
END:VEVENT
BEGIN:VEVENT
DTSTART;TZID=America/Chicago:20230131T180000
DTEND;TZID=America/Chicago:20230131T190000
DTSTAMP:20260423T172751
CREATED:20230111T161634Z
LAST-MODIFIED:20230131T183930Z
UID:1660-1675188000-1675191600@www.bluequailridge.org
SUMMARY:Board Meeting — Canceled Due to Winter Storm
DESCRIPTION:Canceled Due to Winter Storm\n\n\nBoard Meeting January 31\, 2023\n\n6:00 pm – 7:00 pm\nFrancis Tuttle Technology Center\n3500 NW 150th St.
URL:https://www.bluequailridge.org/event/board-meeting-2023/
LOCATION:Francis Tuttle Technology Center\, 3500 NW 150th St\, Oklahoma City\, OK\, 73134\, United States
CATEGORIES:General
END:VEVENT
BEGIN:VEVENT
DTSTART;VALUE=DATE:20220611
DTEND;VALUE=DATE:20220613
DTSTAMP:20260423T172751
CREATED:20220314T144411Z
LAST-MODIFIED:20220314T144411Z
UID:1455-1654905600-1655078399@www.bluequailridge.org
SUMMARY:Annual Blue Quail Ridge Neighborhood Garage Sale
DESCRIPTION:Annual Blue Quail Ridge Neighborhood Garage Sale \n\n\nJune 11-12\, 2022
URL:https://www.bluequailridge.org/event/annual-blue-quail-ridge-neighborhood-garage-sale/
CATEGORIES:General
END:VEVENT
BEGIN:VEVENT
DTSTART;VALUE=DATE:20220509
DTEND;VALUE=DATE:20220510
DTSTAMP:20260423T172751
CREATED:20220128T191221Z
LAST-MODIFIED:20220128T191253Z
UID:1445-1652054400-1652140799@www.bluequailridge.org
SUMMARY:Light the Night Campaign
DESCRIPTION:Blue Quail Ridge is hosting a Light the Night Campaign. \nHow bright can you make the exterior of your home?\nDid you know — crime statistics show a whopping 60% drop in crimes when homes are well lit?! \nYou have until Mother’s Day May 9th to see if you can WIN the Brightest exterior. \nPrize: $50 Gift Card to your Favorite Restaurant \nIt’s Simple! Turn your porch light ON\nTurn your exterior garage lights ON\nAdd lights in your yard \nLight Up the Night and Stop Crime!
URL:https://www.bluequailridge.org/event/light-the-night-campaign/
CATEGORIES:General
ATTACH;FMTTYPE=image/jpeg:https://www.bluequailridge.org/wp-content/uploads/2022/01/BQR-Event.jpg
END:VEVENT
BEGIN:VEVENT
DTSTART;TZID=America/Chicago:20210912T130000
DTEND;TZID=America/Chicago:20210912T150000
DTSTAMP:20260423T172751
CREATED:20210908T185023Z
LAST-MODIFIED:20210908T185344Z
UID:1413-1631451600-1631458800@www.bluequailridge.org
SUMMARY:2021 Annual Picnic
DESCRIPTION:Please Join Us!\nBlue Quail Ridge\n2021 Annual Picnic\nSunday\, Sept 12th\, 1-3 p.m. \nInflatables for the Kisd!\nCatttttering by Freddy’s!\nMeet the HOA board!\nMeet your neighbors! \nQuestions???\nPlease the “Sound Off Form” @ www.bluequailridge.org
URL:https://www.bluequailridge.org/event/2021-annual-picnic/
CATEGORIES:General
ATTACH;FMTTYPE=image/jpeg:https://www.bluequailridge.org/wp-content/uploads/2021/09/BQR-Neighborhood-Picnic-1.jpg
END:VEVENT
BEGIN:VEVENT
DTSTART;TZID=America/Chicago:20210827T200000
DTEND;TZID=America/Chicago:20210827T220000
DTSTAMP:20260423T172751
CREATED:20210806T201505Z
LAST-MODIFIED:20210823T174745Z
UID:1393-1630094400-1630101600@www.bluequailridge.org
SUMMARY:BQR Movie Night
DESCRIPTION:
URL:https://www.bluequailridge.org/event/bqr-movie-night-2021-08-27/
CATEGORIES:General
ATTACH;FMTTYPE=image/jpeg:https://www.bluequailridge.org/wp-content/uploads/2021/08/movie-night-AUGUST-2021-blue-quail.jpg
END:VEVENT
BEGIN:VEVENT
DTSTART;TZID=America/Chicago:20210826T170000
DTEND;TZID=America/Chicago:20210826T193000
DTSTAMP:20260423T172751
CREATED:20210615T153138Z
LAST-MODIFIED:20210615T153227Z
UID:1331-1629997200-1630006200@www.bluequailridge.org
SUMMARY:Food Truck — Greengos Gourmet
DESCRIPTION:
URL:https://www.bluequailridge.org/event/food-truck-greengos-gourmet-2/
CATEGORIES:General
END:VEVENT
BEGIN:VEVENT
DTSTART;TZID=America/Chicago:20210819T180000
DTEND;TZID=America/Chicago:20210819T210000
DTSTAMP:20260423T172751
CREATED:20210615T152914Z
LAST-MODIFIED:20210615T152927Z
UID:1329-1629396000-1629406800@www.bluequailridge.org
SUMMARY:Food Truck — TaiOkie
DESCRIPTION:
URL:https://www.bluequailridge.org/event/food-truck-taiokie/
CATEGORIES:General
END:VEVENT
BEGIN:VEVENT
DTSTART;TZID=America/Chicago:20210812T170000
DTEND;TZID=America/Chicago:20210812T190000
DTSTAMP:20260423T172751
CREATED:20210615T152733Z
LAST-MODIFIED:20210615T152758Z
UID:1327-1628787600-1628794800@www.bluequailridge.org
SUMMARY:Food Truck — David's BBQ
DESCRIPTION:
URL:https://www.bluequailridge.org/event/food-truck-davids-bbq/
CATEGORIES:General
END:VEVENT
BEGIN:VEVENT
DTSTART;TZID=America/Chicago:20210807T160000
DTEND;TZID=America/Chicago:20210807T200000
DTSTAMP:20260423T172751
CREATED:20210615T152637Z
LAST-MODIFIED:20210615T152646Z
UID:1325-1628352000-1628366400@www.bluequailridge.org
SUMMARY:Food Truck — Dons Wing Wagon
DESCRIPTION:
URL:https://www.bluequailridge.org/event/food-truck-dons-wing-wagon/
CATEGORIES:General
END:VEVENT
BEGIN:VEVENT
DTSTART;TZID=America/Chicago:20210730T200000
DTEND;TZID=America/Chicago:20210730T220000
DTSTAMP:20260423T172751
CREATED:20210712T151900Z
LAST-MODIFIED:20210712T152130Z
UID:1366-1627675200-1627682400@www.bluequailridge.org
SUMMARY:HOA Dive in Movie Night
DESCRIPTION:
URL:https://www.bluequailridge.org/event/hoa-dive-in-movie-night/
CATEGORIES:General
END:VEVENT
BEGIN:VEVENT
DTSTART;TZID=America/Chicago:20210730T170000
DTEND;TZID=America/Chicago:20210730T193000
DTSTAMP:20260423T172751
CREATED:20210615T152456Z
LAST-MODIFIED:20210615T152544Z
UID:1323-1627664400-1627673400@www.bluequailridge.org
SUMMARY:Food Truck — Eli’s Soul Food and SnoMuchFun
DESCRIPTION:
URL:https://www.bluequailridge.org/event/food-truck-elis-soul-food-and-snomuchfun/
CATEGORIES:General
END:VEVENT
BEGIN:VEVENT
DTSTART;TZID=America/Chicago:20210722T170000
DTEND;TZID=America/Chicago:20210722T193000
DTSTAMP:20260423T172751
CREATED:20210615T151948Z
LAST-MODIFIED:20210615T152335Z
UID:1321-1626973200-1626982200@www.bluequailridge.org
SUMMARY:Food Truck — Greengos Gourmet
DESCRIPTION:
URL:https://www.bluequailridge.org/event/food-truck-greengos-gourmet/
CATEGORIES:General
END:VEVENT
BEGIN:VEVENT
DTSTART;TZID=America/Chicago:20210717T090000
DTEND;TZID=America/Chicago:20210717T110000
DTSTAMP:20260423T172751
CREATED:20210615T151813Z
LAST-MODIFIED:20210615T151849Z
UID:1319-1626512400-1626519600@www.bluequailridge.org
SUMMARY:Food Truck — Campers Coffee
DESCRIPTION:
URL:https://www.bluequailridge.org/event/food-truck-campers-coffee/
CATEGORIES:General
END:VEVENT
BEGIN:VEVENT
DTSTART;TZID=America/Chicago:20210713T170000
DTEND;TZID=America/Chicago:20210713T190000
DTSTAMP:20260423T172751
CREATED:20210615T151603Z
LAST-MODIFIED:20210615T151650Z
UID:1317-1626195600-1626202800@www.bluequailridge.org
SUMMARY:Food Truck — Oh My Gogi
DESCRIPTION:
URL:https://www.bluequailridge.org/event/food-truck-oh-my-gogi/
CATEGORIES:General
END:VEVENT
BEGIN:VEVENT
DTSTART;TZID=America/Chicago:20210710T170000
DTEND;TZID=America/Chicago:20210710T193000
DTSTAMP:20260423T172751
CREATED:20210615T151440Z
LAST-MODIFIED:20210615T151457Z
UID:1315-1625936400-1625945400@www.bluequailridge.org
SUMMARY:Food Truck — Blue Donkey Cafe
DESCRIPTION:
URL:https://www.bluequailridge.org/event/food-truck-blue-donkey-cafe/
CATEGORIES:General
END:VEVENT
END:VCALENDAR